BEGIN:VCALENDAR
VERSION:2.0
PRODID:-//HCPA - ECPv6.15.12.1//NONSGML v1.0//EN
CALSCALE:GREGORIAN
METHOD:PUBLISH
X-ORIGINAL-URL:https://www.hcpa.info
X-WR-CALDESC:Events for HCPA
REFRESH-INTERVAL;VALUE=DURATION:PT1H
X-Robots-Tag:noindex
X-PUBLISHED-TTL:PT1H
BEGIN:VTIMEZONE
TZID:Europe/London
BEGIN:DAYLIGHT
TZOFFSETFROM:+0000
TZOFFSETTO:+0100
TZNAME:BST
DTSTART:20240331T010000
END:DAYLIGHT
BEGIN:STANDARD
TZOFFSETFROM:+0100
TZOFFSETTO:+0000
TZNAME:GMT
DTSTART:20241027T010000
END:STANDARD
BEGIN:DAYLIGHT
TZOFFSETFROM:+0000
TZOFFSETTO:+0100
TZNAME:BST
DTSTART:20250330T010000
END:DAYLIGHT
BEGIN:STANDARD
TZOFFSETFROM:+0100
TZOFFSETTO:+0000
TZNAME:GMT
DTSTART:20251026T010000
END:STANDARD
BEGIN:DAYLIGHT
TZOFFSETFROM:+0000
TZOFFSETTO:+0100
TZNAME:BST
DTSTART:20260329T010000
END:DAYLIGHT
BEGIN:STANDARD
TZOFFSETFROM:+0100
TZOFFSETTO:+0000
TZNAME:GMT
DTSTART:20261025T010000
END:STANDARD
END:VTIMEZONE
BEGIN:VEVENT
DTSTART;TZID=Europe/London:20251204T100000
DTEND;TZID=Europe/London:20251204T160000
DTSTAMP:20260420T152837
CREATED:20250818T075716Z
LAST-MODIFIED:20251203T171032Z
UID:10001975-1764842400-1764864000@www.hcpa.info
SUMMARY:Therapeutic and Cultural Diets and Religious Dietary Restrictions
DESCRIPTION:  \n  \nCourse fee: HCPA Full Member: Fully funded* | ACE Member: £100+VAT | Associate Member: £112+VAT | Non-member: £150+VAT\nTwo day course at HCPA Campus\nDay 1: 04/12/2025\nDay 2: 05/12/2025\nThis course will provide staff with additional knowledge about common medical conditions that are treated or managed by with a special diet. We will cover conditions such as diabetes\, coeliac disease\, food allergies and constipation to name a few. Caring for adults who are tube fed will also be included. In addition we will discuss different cultural diets and religious dietary laws. Menu evaluation and planning will be covered in order to explore how different dietary needs for medical\, cultural or religious reasons can be met. \nLearning objectives:\n• Describe the key principles of special diets advised for the treatment and management of diabetes\, coeliac disease\, constipation and other medical conditions identified.\n• Differentiate between Type 1 and Type 2 Diabetes\n• Take a person centred approach plan how additional menu planning can improve the meal provision and enjoyment for clients on special diets.\n• Recognise the emotional and psychological issues associated with restrictive diets\n• Explain the dietary restrictions of different religions and cultures \n*Please note: As per our T&C’s\, this course carries a fee in the event of non-attendance\, non-completion or late cancellation.\nBookings of more than two delegates per site may be amended to allow access to all member organisations at the discretion of HCPA.\nDelegates who are late may not be admitted into the training and a cost incurred
URL:https://www.hcpa.info/courses/therapeutic-and-cultural-diets-and-religious-dietary-restrictions/
LOCATION:HCPA\, Mundells Campus\, Mundells\, Welwyn Garden City\, AL7 1FT
CATEGORIES:Care topics,Prevention & Enablement
END:VEVENT
BEGIN:VEVENT
DTSTART;TZID=Europe/London:20251211T100000
DTEND;TZID=Europe/London:20251211T160000
DTSTAMP:20260420T152837
CREATED:20250730T125402Z
LAST-MODIFIED:20251210T153626Z
UID:10001922-1765447200-1765468800@www.hcpa.info
SUMMARY:Trauma Informed Approaches and becoming a trauma informed organisation
DESCRIPTION:Course fee: HCPA Full Member: Fully funded*\nAssociate Member: £56+VAT | ACE Member: £50+VAT | Non-member: £75+VAT  \nOne day course at HCPA \nDelegates will have an opportunity to understand the widespread nature of trauma within populations\, and how these can manifest on both an individual\, community\, cultural and national level. \nDelegates will learn how traumatic experiences\, especially those in childhood can fundamentally affect the way in which brain development occurs and will explore different types of trauma responses. They will also learn a key principle of being trauma informed is by looking beyond presenting behaviours and understand trauma informed approaches are not a specific intervention\, rather an organisational change to how people within all levels of an organisation are treated. This organisational change has multiple benefits to all people at all levels\, not just those who use services. \nDelegates will spend the second half of the day being shown a step-by-step guide on how to use the TrACE toolkit to; ready\, review\, monitor and evaluate their own trauma informed journey and have an opportunity to network with other delegates to support their individual journeys further. \nLearning objectives:\n• The prevalence of trauma\, especially Adverse Childhood Experiences (ACEs) within society.\n• That trauma is a natural response to abnormal experiences.\n• Consider types of experiences that can lead to trauma.\n• Explore the link between ACEs and poor adult health outcomes.\n• Understand key points of attachment theory.\n• Understand how trauma can change the flight and fight response and\, how this can subsequently cause a lifelong impact on a person’s behaviour.\n• Understand the 4 R’s of being trauma aware and the 6 principles of trauma approaches.\n• Step-by-step guide on how to become a trauma informed organisation using the 4 stages of the TrACE toolkit.\n \n*Please note: As per our T&C’s\, this course carries a fee in the event of non-attendance\, non-completion or late cancellation.\nBookings of more than two delegates per site may be amended to allow access to all member organisations at the discretion of HCPA.\nDelegates who are late may not be admitted into the training and a cost incurred
URL:https://www.hcpa.info/courses/trauma-informed-approaches-and-becoming-a-trauma-informed-organisation-with-hpft-cohort-03/
LOCATION:HCPA\, Mundells Campus\, Mundells\, Welwyn Garden City\, AL7 1FT
CATEGORIES:Care topics
END:VEVENT
BEGIN:VEVENT
DTSTART;TZID=Europe/London:20251211T100000
DTEND;TZID=Europe/London:20251211T160000
DTSTAMP:20260420T152837
CREATED:20251016T194048Z
LAST-MODIFIED:20251210T175850Z
UID:10002058-1765447200-1765468800@www.hcpa.info
SUMMARY:Level 5 Award in Understanding Digital Leadership in Adult Social Care
DESCRIPTION:    \nCourse fee: £830+VAT\nFull payment is required prior to course commencement.\nThis qualification is eligible for funding re-imbursement up to £1000 via the Learning & Development Support Scheme (LDSS). More information can be found here\nSeven session course via Virtual Classroom\nAll sessions must be attended (T&C’s apply)\nDay 1: 11/12/2025\nDay 2: 18/12/2025\nDay 3: 15/01/2026\nDay 4: 22/01/2026\nDay 5: 05/02/2026\nDay 6: 12/02/2026\nDay 7: 12/03/2026\nPortfolio submission: 30/03/2026\nAdditional one-to-one support is available outside scheduled sessions for knowledge assessments and professional discussions to meet the qualification criteria. \nThe Level 5 Award in Understanding Digital Leadership in Adult Social Care is designed for senior professionals working within or supporting the adult social care sector who wish to lead safe\, person-centred digital transformation.\nThis qualification is particularly suited to individuals in roles that enable them to demonstrate leadership\, introduce and integrate technology into care delivery\, and improve outcomes for people who draw on care and support.\nLearners should have substantial experience within the sector and be working at Level 3 or above\, with opportunities to influence digital practice in their setting. \nThroughout the qualification\, learners will explore how technology and data can enhance the quality\, efficiency\, and outcomes of care. They will also develop the skills to plan and implement appropriate digital tools\, and to lead teams in building digital competence and confidence\, while upholding strong standards of governance\, privacy\, and ethical practice. \nBy completing the qualification\, learners will be able to:\n• Understand the national context for technology and data in adult social care\, including legal\, ethical\, safeguarding\, and governance considerations.\n• Identify technology and data that can improve quality of life\, personalise care\, and support independence.\n• Plan\, assess\, and select digital solutions that meet organisational and service requirements.\n• Engage stakeholders effectively and manage supplier/external relationships to support sustainable implementation.\n• Lead change: build staff digital skills\, confidence\, and wellbeing; create a positive learning culture; and champion continuous improvement using feedback and outcomes data \nTo achieve the qualification\, learners must successfully complete three mandatory units:\n• Use of technology and data in adult social care\n• Implement technology in adult social care\n• Lead change\, learning and improvement in adult social care \nThe course includes seven tutor-led sessions to support learners in developing the required knowledge\, skills and behaviours for successful completion. Learners must also complete and submit coursework within the timeframes set by the Tutor/Assessor. Both learners and their managers share responsibility for ensuring all submissions are authentic and completed on time. \nWhat are the entry requirements?\n• Prospective learners should have substantial experience within the sector and be working at Level 3 or above\, with opportunities to influence digital practice in their setting.\n• They should possess a strong command of the English language (e.g.\, Level 2).
URL:https://www.hcpa.info/courses/level-5-award-in-digital-leadership-in-adult-social-care/
LOCATION:Virtual Classroom
CATEGORIES:Care Leadership Courses,Leadership & Management Skills,Qualifications
END:VEVENT
BEGIN:VEVENT
DTSTART;TZID=Europe/London:20251211T103000
DTEND;TZID=Europe/London:20251211T130000
DTSTAMP:20260420T152837
CREATED:20251204T103822Z
LAST-MODIFIED:20251204T225532Z
UID:10002161-1765449000-1765458000@www.hcpa.info
SUMMARY:Risk Assessing Falls and Frailty and embedding Outcome measures within your Service for Managers
DESCRIPTION:Course fee: HCPA Full Member: Fully funded*\nACE Member: £33+VAT | Associate Member: £38+VAT | Non-member: £50+VAT \nHalf day course via MS Teams!\n \nA session for Care Managers exploring how HCPA resources can support you to ensure Falls Risk Assessments are robust. \nYou will look at evidence-based falls and frailty interventions\, and you will also discuss the importance of early frailty identification and assessment within your care setting. \nYou will also consider the use of Outcome Measures to monitor individuals’ progress or deterioration. \nBy the end of this session\, participants will be able to: \n\nConfidently use HCPA resources within their organisation to support more robust Falls Risk Assessments.\nIdentify the risk of frailty using evidence-based assessment tools.\nUnderstand the purpose of Outcome Measures and implement these within their service.Click here to register\n\n*Please note: As per our T&C’s\, this course carries a fee in the event of non-attendance\, non-completion or late cancellation.\nDelegates who are late may not be admitted into the training and a cost incurred
URL:https://www.hcpa.info/courses/risk-assessing-falls-and-frailty-and-embedding-outcome-measures-within-your-service-for-managers-online-learning-session/
LOCATION:Virtual Classroom
CATEGORIES:Care topics,Prevention & Enablement
END:VEVENT
END:VCALENDAR