BEGIN:VCALENDAR
VERSION:2.0
PRODID:-//HCPA - ECPv6.15.12.1//NONSGML v1.0//EN
CALSCALE:GREGORIAN
METHOD:PUBLISH
X-WR-CALNAME:HCPA
X-ORIGINAL-URL:https://www.hcpa.info
X-WR-CALDESC:Events for HCPA
REFRESH-INTERVAL;VALUE=DURATION:PT1H
X-Robots-Tag:noindex
X-PUBLISHED-TTL:PT1H
BEGIN:VTIMEZONE
TZID:Europe/London
BEGIN:DAYLIGHT
TZOFFSETFROM:+0000
TZOFFSETTO:+0100
TZNAME:BST
DTSTART:20240331T010000
END:DAYLIGHT
BEGIN:STANDARD
TZOFFSETFROM:+0100
TZOFFSETTO:+0000
TZNAME:GMT
DTSTART:20241027T010000
END:STANDARD
BEGIN:DAYLIGHT
TZOFFSETFROM:+0000
TZOFFSETTO:+0100
TZNAME:BST
DTSTART:20250330T010000
END:DAYLIGHT
BEGIN:STANDARD
TZOFFSETFROM:+0100
TZOFFSETTO:+0000
TZNAME:GMT
DTSTART:20251026T010000
END:STANDARD
BEGIN:DAYLIGHT
TZOFFSETFROM:+0000
TZOFFSETTO:+0100
TZNAME:BST
DTSTART:20260329T010000
END:DAYLIGHT
BEGIN:STANDARD
TZOFFSETFROM:+0100
TZOFFSETTO:+0000
TZNAME:GMT
DTSTART:20261025T010000
END:STANDARD
END:VTIMEZONE
BEGIN:VEVENT
DTSTART;TZID=Europe/London:20250522T100000
DTEND;TZID=Europe/London:20250522T123000
DTSTAMP:20260421T054418
CREATED:20250323T132638Z
LAST-MODIFIED:20250427T164601Z
UID:10001631-1747908000-1747917000@www.hcpa.info
SUMMARY:Time Management for Leaders - Applying the 7 Habits of Highly Effective People
DESCRIPTION:  \n  \nCourse fee: HCPA Full Member: Fully funded* | ACE Member: £33+VAT | Associate Member: £38+VAT | Non-member: £50+VAT\nHalf day course via Virtual Classroom\nThis half-day session is delivered live by our expert trainer in an interactive virtual environment\, meaning there are no hidden travel costs and fits easier into busy schedules. Sessions are designed so that participants can interact with the trainer and other learners to quickly gain actionable skills\, knowledge and behaviours\, helping them implement these swiftly. \nThe Time Management for Leaders course empowers leaders in adult social care with practical techniques and strategies to effectively manage their time and maximise their productivity.\nIt incorporates the renowned principles from Stephen R. Covey’s best-selling book\, “The 7 Habits of Highly Effective People\,” providing participants with a solid foundation for personal and professional growth. \nLearning objectives:\n• Understand the importance of effective time management including effects of stress.\n• Identify individual “thieves of time” and common errors in time management.\n• Understand how to manage a task list most effectively.\n• Analyse time wasters such as procrastination and fear of failure.\n• Learn to categorise tasks based on urgency and importance using the time management matrix.\n• Evaluate time management tools and effective communication. \n*Please note: As per our T&C’s\, this course carries a fee in the event of non-attendance\, non-completion or late cancellation.\nBookings of more than two delegates per site may be amended to allow access to all member organisations at the discretion of HCPA.\nDelegates who are late may not be admitted into the training and a cost incurred.
URL:https://www.hcpa.info/courses/time-management-for-leaders-applying-the-7-habits-of-highly-effective-people-cohort-01/
LOCATION:Virtual Classroom
CATEGORIES:Care Leadership Courses
END:VEVENT
END:VCALENDAR