BEGIN:VCALENDAR
VERSION:2.0
PRODID:-//HCPA - ECPv6.15.12.1//NONSGML v1.0//EN
CALSCALE:GREGORIAN
METHOD:PUBLISH
X-ORIGINAL-URL:https://www.hcpa.info
X-WR-CALDESC:Events for HCPA
REFRESH-INTERVAL;VALUE=DURATION:PT1H
X-Robots-Tag:noindex
X-PUBLISHED-TTL:PT1H
BEGIN:VTIMEZONE
TZID:Europe/London
BEGIN:DAYLIGHT
TZOFFSETFROM:+0000
TZOFFSETTO:+0100
TZNAME:BST
DTSTART:20240331T010000
END:DAYLIGHT
BEGIN:STANDARD
TZOFFSETFROM:+0100
TZOFFSETTO:+0000
TZNAME:GMT
DTSTART:20241027T010000
END:STANDARD
BEGIN:DAYLIGHT
TZOFFSETFROM:+0000
TZOFFSETTO:+0100
TZNAME:BST
DTSTART:20250330T010000
END:DAYLIGHT
BEGIN:STANDARD
TZOFFSETFROM:+0100
TZOFFSETTO:+0000
TZNAME:GMT
DTSTART:20251026T010000
END:STANDARD
BEGIN:DAYLIGHT
TZOFFSETFROM:+0000
TZOFFSETTO:+0100
TZNAME:BST
DTSTART:20260329T010000
END:DAYLIGHT
BEGIN:STANDARD
TZOFFSETFROM:+0100
TZOFFSETTO:+0000
TZNAME:GMT
DTSTART:20261025T010000
END:STANDARD
END:VTIMEZONE
BEGIN:VEVENT
DTSTART;TZID=Europe/London:20250724T140000
DTEND;TZID=Europe/London:20250724T160000
DTSTAMP:20260419T184708
CREATED:20250610T074237Z
LAST-MODIFIED:20250610T080252Z
UID:10001752-1753365600-1753372800@www.hcpa.info
SUMMARY:Quality Life History to Support Dementia Care in Homecare Settings Webinar
DESCRIPTION:Course fee: HCPA Full Member: Fully funded* | ACE Member: Fully funded* | Associate Member: N/A | Non-member: N/A \n2 hour Webinar via Zoom!\n \nJoin us for an engaging and practical session on Quality Life History to Support Dementia Care in Homecare. \nThis fully funded online learning session is designed specifically for Homecare staff in Hertfordshire. \nYou’ll gain practical tools and insights to support the people you care for more meaningfully. \n• To explore what life history is\n• To be able to identify the importance and benefits of life history\n• To understand the role of Life history in person centred care person centred care\n• To cover how to gather a Life history\n• To look at ways of presenting and using a life History\n• How to use and update This is Me\n• To understand how to integrate life history in to daily care \nWhether you’re new to life history work or looking to refresh your approach\, this session will equip you with meaningful strategies to improve the quality of life for residents living with dementia. \nClick here to book!\n*Please note: As per our T&C’s\, this course carries a fee in the event of non-attendance\, non-completion or late cancellation.\nDelegates who are late may not be admitted into the training and a cost incurred
URL:https://www.hcpa.info/courses/quality-life-history-to-support-dementia-care-in-homecare-settings-webinar/
CATEGORIES:Events, Forums & Seminars
END:VEVENT
END:VCALENDAR