BEGIN:VCALENDAR
VERSION:2.0
PRODID:-//HCPA - ECPv6.15.12.1//NONSGML v1.0//EN
CALSCALE:GREGORIAN
METHOD:PUBLISH
X-WR-CALNAME:HCPA
X-ORIGINAL-URL:https://www.hcpa.info
X-WR-CALDESC:Events for HCPA
REFRESH-INTERVAL;VALUE=DURATION:PT1H
X-Robots-Tag:noindex
X-PUBLISHED-TTL:PT1H
BEGIN:VTIMEZONE
TZID:Europe/London
BEGIN:DAYLIGHT
TZOFFSETFROM:+0000
TZOFFSETTO:+0100
TZNAME:BST
DTSTART:20240331T010000
END:DAYLIGHT
BEGIN:STANDARD
TZOFFSETFROM:+0100
TZOFFSETTO:+0000
TZNAME:GMT
DTSTART:20241027T010000
END:STANDARD
BEGIN:DAYLIGHT
TZOFFSETFROM:+0000
TZOFFSETTO:+0100
TZNAME:BST
DTSTART:20250330T010000
END:DAYLIGHT
BEGIN:STANDARD
TZOFFSETFROM:+0100
TZOFFSETTO:+0000
TZNAME:GMT
DTSTART:20251026T010000
END:STANDARD
BEGIN:DAYLIGHT
TZOFFSETFROM:+0000
TZOFFSETTO:+0100
TZNAME:BST
DTSTART:20260329T010000
END:DAYLIGHT
BEGIN:STANDARD
TZOFFSETFROM:+0100
TZOFFSETTO:+0000
TZNAME:GMT
DTSTART:20261025T010000
END:STANDARD
END:VTIMEZONE
BEGIN:VEVENT
DTSTART;TZID=Europe/London:20250624T100000
DTEND;TZID=Europe/London:20250624T120000
DTSTAMP:20260419T200529
CREATED:20250527T140143Z
LAST-MODIFIED:20250604T102639Z
UID:10001713-1750759200-1750766400@www.hcpa.info
SUMMARY:Manager Forum for Older People Care Services - Virtual
DESCRIPTION:Course fee: HCPA Full Member: Fully funded* | ACE Member: Fully funded* | Associate Member: N/A | Non-member: N/A \n2 hour forum virtual via MS Teams!\n \nJoin our forum for Managers who work in Older Persons care services – In Person or Online! \nThat’s right\, two options: either attend in person at our Mundells site (limited spaces) or join us online. \nThis forum is designed to be your space – a place to connect\, collaborate\, and share what matters most to you. \nWe’re still gathering content and would love your input to help shape the agenda.\nTell us:\n• What topics should we cover?\n• What challenges are you facing?\n• Any guest speakers you’d like to hear from? \nPlease give us your suggestions by filling in the below form – we’re all ears & book your space below\nClick here for your suggestions \nIf you would like to attend in person at our Mundells site\, See Here \nWe look forward to seeing you – online or in person! \n*Please note: As per our T&C’s\, this course carries a fee in the event of non-attendance\, non-completion or late cancellation.\nDelegates who are late may not be admitted into the training and a cost incurred
URL:https://www.hcpa.info/courses/manager-forum-for-older-people-care-services-virtual/
LOCATION:Virtual Classroom
CATEGORIES:Events, Forums & Seminars
END:VEVENT
END:VCALENDAR