BEGIN:VCALENDAR
VERSION:2.0
PRODID:-//HCPA - ECPv6.15.12.1//NONSGML v1.0//EN
CALSCALE:GREGORIAN
METHOD:PUBLISH
X-WR-CALNAME:HCPA
X-ORIGINAL-URL:https://www.hcpa.info
X-WR-CALDESC:Events for HCPA
REFRESH-INTERVAL;VALUE=DURATION:PT1H
X-Robots-Tag:noindex
X-PUBLISHED-TTL:PT1H
BEGIN:VTIMEZONE
TZID:Europe/London
BEGIN:DAYLIGHT
TZOFFSETFROM:+0000
TZOFFSETTO:+0100
TZNAME:BST
DTSTART:20250330T010000
END:DAYLIGHT
BEGIN:STANDARD
TZOFFSETFROM:+0100
TZOFFSETTO:+0000
TZNAME:GMT
DTSTART:20251026T010000
END:STANDARD
BEGIN:DAYLIGHT
TZOFFSETFROM:+0000
TZOFFSETTO:+0100
TZNAME:BST
DTSTART:20260329T010000
END:DAYLIGHT
BEGIN:STANDARD
TZOFFSETFROM:+0100
TZOFFSETTO:+0000
TZNAME:GMT
DTSTART:20261025T010000
END:STANDARD
BEGIN:DAYLIGHT
TZOFFSETFROM:+0000
TZOFFSETTO:+0100
TZNAME:BST
DTSTART:20270328T010000
END:DAYLIGHT
BEGIN:STANDARD
TZOFFSETFROM:+0100
TZOFFSETTO:+0000
TZNAME:GMT
DTSTART:20271031T010000
END:STANDARD
END:VTIMEZONE
BEGIN:VEVENT
DTSTART;TZID=Europe/London:20260619T100000
DTEND;TZID=Europe/London:20260619T160000
DTSTAMP:20260425T184435
CREATED:20260318T155119Z
LAST-MODIFIED:20260327T232101Z
UID:10002370-1781863200-1781884800@www.hcpa.info
SUMMARY:Care Planning
DESCRIPTION:  \n  \n\nCourse fee: HCPA Standard Member: Fully funded*\nAssociate/Network Member: £37.50+VAT | Non-member: £75+VAT  \nOne day course at HCPA Campus\nThis course provides delegates with knowledge and understanding of the principles and processes of person-centred thinking\, planning and reviews. \nLearning objectives:\n• Understand the principles and practice of person-centred thinking\, planning and reviews\n• Understand the context within which person-centred thinking and planning takes place.\n• Understand own role in person-centred planning\, thinking and reviews. \n*Please note: As per our T&C’s\, this course carries a fee in the event of non-attendance\, non-completion or late cancellation.\nBookings of more than two delegates per site may be amended to allow access to all member organisations at the discretion of HCPA.\nDelegates who are late may not be admitted into the training and a cost incurred
URL:https://www.hcpa.info/courses/care-planning-2/
LOCATION:HCPA\, Mundells Campus\, Mundells\, Welwyn Garden City\, AL7 1FT
CATEGORIES:Care topics
END:VEVENT
END:VCALENDAR