BEGIN:VCALENDAR
VERSION:2.0
PRODID:-//HCPA - ECPv6.15.12.1//NONSGML v1.0//EN
CALSCALE:GREGORIAN
METHOD:PUBLISH
X-WR-CALNAME:HCPA
X-ORIGINAL-URL:https://www.hcpa.info
X-WR-CALDESC:Events for HCPA
REFRESH-INTERVAL;VALUE=DURATION:PT1H
X-Robots-Tag:noindex
X-PUBLISHED-TTL:PT1H
BEGIN:VTIMEZONE
TZID:Europe/London
BEGIN:DAYLIGHT
TZOFFSETFROM:+0000
TZOFFSETTO:+0100
TZNAME:BST
DTSTART:20250330T010000
END:DAYLIGHT
BEGIN:STANDARD
TZOFFSETFROM:+0100
TZOFFSETTO:+0000
TZNAME:GMT
DTSTART:20251026T010000
END:STANDARD
BEGIN:DAYLIGHT
TZOFFSETFROM:+0000
TZOFFSETTO:+0100
TZNAME:BST
DTSTART:20260329T010000
END:DAYLIGHT
BEGIN:STANDARD
TZOFFSETFROM:+0100
TZOFFSETTO:+0000
TZNAME:GMT
DTSTART:20261025T010000
END:STANDARD
BEGIN:DAYLIGHT
TZOFFSETFROM:+0000
TZOFFSETTO:+0100
TZNAME:BST
DTSTART:20270328T010000
END:DAYLIGHT
BEGIN:STANDARD
TZOFFSETFROM:+0100
TZOFFSETTO:+0000
TZNAME:GMT
DTSTART:20271031T010000
END:STANDARD
END:VTIMEZONE
BEGIN:VEVENT
DTSTART;TZID=Europe/London:20260602T100000
DTEND;TZID=Europe/London:20260602T160000
DTSTAMP:20260425T183955
CREATED:20260226T150228Z
LAST-MODIFIED:20260327T225126Z
UID:10002290-1780394400-1780416000@www.hcpa.info
SUMMARY:Infection Prevention and Control CHAMPION - Application
DESCRIPTION:  \n  \nCourse fee: HCPA Standard Member: Fully funded*\nAssociate/Network Member: £400+VAT | Non-member: £400+VAT  \nFour day programme open for applications\nDay 1: 02/06/2026 | Day 2: 09/06/2026 | Day 3: 15/06/2026 | Day 4: 22/06/2026\nAll sessions must be attended \nLead Excellence in Care with HCPA Champions\nEmpower your team by developing experienced colleagues to become HCPA Champions – individuals who influence positive\, high-quality change within their care services. \nWhat is an HCPA Champion?\nA Champion is a trained experienced care professional who drives improvements in care practices\, embeds governance\, and models excellence across the organisation.\nThe programmes equip Champions with the confidence\, tools\, and knowledge to influence change\, support colleagues\, and apply best practice consistently.\nChampions revalidate every two years by evidencing change through action plans\, case studies\, and continuing professional development. \nWhy have Champions?\nCare Managers cannot do everything\, they need support from trusted staff to ensure the service remains compliant with evolving national and local guidance. Champions mentor peers\, influence care delivery\, and maintain elevated care standards through ongoing governance and learning. \nWe suggest care providers have a Champion in each relevant topic area. To ensure quality and focus\, each individual may only be a Champion in up to two topic areas: \n Care Culture | Data Security & Protection | Dementia | Enablement | End of Life | Engagement | Falls & Frailty | Infection Prevention & Control | Medication | Mental Capacity | Mental Health Service | Positive Behaviour Support (ADS) | Skin Health | Safeguarding \nFind out more and apply here \nNote – This is an application\, not a booking. If approved\, you will be invited to book.
URL:https://www.hcpa.info/courses/infection-prevention-and-control-champion-application-2/
CATEGORIES:Care topics,Champions
END:VEVENT
BEGIN:VEVENT
DTSTART;TZID=Europe/London:20260602T100000
DTEND;TZID=Europe/London:20260602T160000
DTSTAMP:20260425T183955
CREATED:20260318T125609Z
LAST-MODIFIED:20260327T225253Z
UID:10002365-1780394400-1780416000@www.hcpa.info
SUMMARY:Engagement support and goal setting - Strategies for effective activities planning
DESCRIPTION:  \n  \nCourse fee: HCPA Standard Member: Fully funded*\nAssociate/Network Member: £37.50+VAT | Non-member: £75+VAT  \nOne day course at HCPA Campus\nThis course is designed for activities leads and coordinators committed to enhancing the quality of life for residents through personalised engagement and effective goal setting.\nParticipants will learn how to set and document SMART goals tailored to individual residents\, understand the significance of exploring life stories\, and develop strategies for engaging residents with varying levels of dementia. \nLearning objectives:\n• Understand roles and responsibilities when providing engagement support.\n• Learn techniques for assessing resident needs and setting personalised goals.\n• Understand the importance of life stories involving families and friends in resident care.\n• Understand the principles and importance of SMART goal setting in a care setting.\n• Gain skills in documenting and updating goals in care plans.\n• Learn best practices for recording activities and ensuring access to records for all staff. \n*Please note: As per our T&C’s\, this course carries a fee in the event of non-attendance\, non-completion or late cancellation.\nBookings of more than two delegates per site may be amended to allow access to all member organisations at the discretion of HCPA.\nDelegates who are late may not be admitted into the training and a cost incurred
URL:https://www.hcpa.info/courses/engagement-support-and-goal-setting-strategies-for-effective-activities-planning/
LOCATION:HCPA\, Mundells Campus\, Mundells\, Welwyn Garden City\, AL7 1FT
CATEGORIES:Care topics,Prevention & Enablement
END:VEVENT
END:VCALENDAR