BEGIN:VCALENDAR
VERSION:2.0
PRODID:-//HCPA - ECPv6.15.12.1//NONSGML v1.0//EN
CALSCALE:GREGORIAN
METHOD:PUBLISH
X-ORIGINAL-URL:https://www.hcpa.info
X-WR-CALDESC:Events for HCPA
REFRESH-INTERVAL;VALUE=DURATION:PT1H
X-Robots-Tag:noindex
X-PUBLISHED-TTL:PT1H
BEGIN:VTIMEZONE
TZID:Europe/London
BEGIN:DAYLIGHT
TZOFFSETFROM:+0000
TZOFFSETTO:+0100
TZNAME:BST
DTSTART:20250330T010000
END:DAYLIGHT
BEGIN:STANDARD
TZOFFSETFROM:+0100
TZOFFSETTO:+0000
TZNAME:GMT
DTSTART:20251026T010000
END:STANDARD
BEGIN:DAYLIGHT
TZOFFSETFROM:+0000
TZOFFSETTO:+0100
TZNAME:BST
DTSTART:20260329T010000
END:DAYLIGHT
BEGIN:STANDARD
TZOFFSETFROM:+0100
TZOFFSETTO:+0000
TZNAME:GMT
DTSTART:20261025T010000
END:STANDARD
BEGIN:DAYLIGHT
TZOFFSETFROM:+0000
TZOFFSETTO:+0100
TZNAME:BST
DTSTART:20270328T010000
END:DAYLIGHT
BEGIN:STANDARD
TZOFFSETFROM:+0100
TZOFFSETTO:+0000
TZNAME:GMT
DTSTART:20271031T010000
END:STANDARD
END:VTIMEZONE
BEGIN:VEVENT
DTSTART;TZID=Europe/London:20260508T100000
DTEND;TZID=Europe/London:20260508T160000
DTSTAMP:20260425T173443
CREATED:20260223T103914Z
LAST-MODIFIED:20260424T063949Z
UID:10002259-1778234400-1778256000@www.hcpa.info
SUMMARY:Digital & Data - Extended Knowledge
DESCRIPTION:  \n  \nCourse fee: HCPA Standard Member: Fully funded*\nAssociate/Network Member: £112.50+VAT | Non-member: £225+VAT \nThree day course at HCPA Campus\nDay 1: 08/05/2026\nDay 2: 13/05/2026\nDay 3: 20/05/2026\n\nCourse Overview \nThis course equips you with the essential skills and knowledge to assess your organisation’s Data Security practices and ensure compliance with GDPR regulations. Gain a clear understanding of what your organisation must implement to meet CQC inspections\, specifically Governance Quality Statement within Well-Led Key Question. Learn how to adopt best practices for the use of Digital Technology and how best to prevent Cyber Attacks. \nThis course is aligned with the Workforce Development Pathway under:\n• Care or Support Worker – Established in their role with consolidated skills and experience\n• Enhanced Care Worker – Delegated healthcare activities and/or condition-specific support \nLearning objectives: \n• Understand Data Security & Protection Law and Legislation.\n• Understand the requirements for GDPR compliance and CQC inspections\n• Understand Person centred digital care and support\, including the ethical use of technology\n• Understand the use of AI in the Care Sector\n• Understand how to support your organisation\n• Understand how to promote Data Security and Digital working in the workplace. \n*Please note: As per our T&C’s\, this course carries a fee in the event of non-attendance\, non-completion or late cancellation.\nBookings of more than two delegates per site may be amended to allow access to all member organisations at the discretion of HCPA.\nDelegates who are late may not be admitted into the training and a cost incurred.
URL:https://www.hcpa.info/courses/digital-data-extended-knowledge/
LOCATION:HCPA\, Mundells Campus\, Mundells\, Welwyn Garden City\, AL7 1FT
CATEGORIES:Care topics
END:VEVENT
END:VCALENDAR