BEGIN:VCALENDAR
VERSION:2.0
PRODID:-//HCPA - ECPv6.15.12.1//NONSGML v1.0//EN
CALSCALE:GREGORIAN
METHOD:PUBLISH
X-ORIGINAL-URL:https://www.hcpa.info
X-WR-CALDESC:Events for HCPA
REFRESH-INTERVAL;VALUE=DURATION:PT1H
X-Robots-Tag:noindex
X-PUBLISHED-TTL:PT1H
BEGIN:VTIMEZONE
TZID:Europe/London
BEGIN:DAYLIGHT
TZOFFSETFROM:+0000
TZOFFSETTO:+0100
TZNAME:BST
DTSTART:20250330T010000
END:DAYLIGHT
BEGIN:STANDARD
TZOFFSETFROM:+0100
TZOFFSETTO:+0000
TZNAME:GMT
DTSTART:20251026T010000
END:STANDARD
BEGIN:DAYLIGHT
TZOFFSETFROM:+0000
TZOFFSETTO:+0100
TZNAME:BST
DTSTART:20260329T010000
END:DAYLIGHT
BEGIN:STANDARD
TZOFFSETFROM:+0100
TZOFFSETTO:+0000
TZNAME:GMT
DTSTART:20261025T010000
END:STANDARD
BEGIN:DAYLIGHT
TZOFFSETFROM:+0000
TZOFFSETTO:+0100
TZNAME:BST
DTSTART:20270328T010000
END:DAYLIGHT
BEGIN:STANDARD
TZOFFSETFROM:+0100
TZOFFSETTO:+0000
TZNAME:GMT
DTSTART:20271031T010000
END:STANDARD
END:VTIMEZONE
BEGIN:VEVENT
DTSTART;TZID=Europe/London:20260505T100000
DTEND;TZID=Europe/London:20260505T123000
DTSTAMP:20260425T173505
CREATED:20260309T121956Z
LAST-MODIFIED:20260323T233143Z
UID:10002336-1777975200-1777984200@www.hcpa.info
SUMMARY:Risk Assessing Falls and Frailty and embedding Outcome measures within your Service for Managers
DESCRIPTION:Course fee: HCPA Standard Member: Fully funded*\nAssociate/Network Member: £25+VAT | Non-member: £50+VAT \nHalf day course at HCPA Mundells Campus!\n \nA session for Care Managers exploring how HCPA resources can support you to ensure Falls Risk Assessments are robust. \nYou will look at evidence-based falls and frailty interventions\, and you will also discuss the importance of early frailty identification and assessment within your care setting. \nYou will also consider the use of Outcome Measures to monitor individuals’ progress or deterioration. \nBy the end of this session\, participants will be able to: \n\nConfidently use HCPA resources within their organisation to support more robust Falls Risk Assessments.\nIdentify the risk of frailty using evidence-based assessment tools.\nUnderstand the purpose of Outcome Measures and implement these within their service.\n\n*Please note: As per our T&C’s\, this course carries a fee in the event of non-attendance\, non-completion or late cancellation.\nDelegates who are late may not be admitted into the training and a cost incurred
URL:https://www.hcpa.info/courses/risk-assessing-falls-and-frailty-and-embedding-outcome-measures-within-your-service-for-managers-4/
LOCATION:HCPA\, Mundells Campus\, Mundells\, Welwyn Garden City\, AL7 1FT
CATEGORIES:Care topics,Prevention & Enablement
END:VEVENT
BEGIN:VEVENT
DTSTART;TZID=Europe/London:20260505T100000
DTEND;TZID=Europe/London:20260505T160000
DTSTAMP:20260425T173505
CREATED:20260226T144939Z
LAST-MODIFIED:20260323T233329Z
UID:10002286-1777975200-1777996800@www.hcpa.info
SUMMARY:Care Home Medication CHAMPION - Application
DESCRIPTION:  \n  \nCourse fees: HCPA Standard Member: Fully funded*\nAssociate/Network Member: £400+VAT | Non-member: £400+VAT\nFour day programme open for applications\nDay 1: 05/05/2026 | Day 2: 11/05/2026 | Day 3: 18/05/2026 | Day 4: 19/05/2026\nAll sessions must be attended \nLead Excellence in Care with HCPA Champions\nEmpower your team by developing experienced colleagues to become HCPA Champions – individuals who influence positive\, high-quality change within their care services. \nWhat is an HCPA Champion?\nA Champion is a trained experienced care professional who drives improvements in care practices\, embeds governance\, and models excellence across the organisation.\nThe programmes equip Champions with the confidence\, tools\, and knowledge to influence change\, support colleagues\, and apply best practice consistently.\nChampions revalidate every two years by evidencing change through action plans\, case studies\, and continuing professional development. \nWhy have Champions?\nCare Managers cannot do everything\, they need support from trusted staff to ensure the service remains compliant with evolving national and local guidance. Champions mentor peers\, influence care delivery\, and maintain elevated care standards through ongoing governance and learning. \nWe suggest care providers have a Champion in each relevant topic area. To ensure quality and focus\, each individual may only be a Champion in up to two topic areas: \n Care Culture | Data Security & Protection | Dementia | Enablement | End of Life | Engagement | Falls & Frailty | Infection Prevention & Control | Medication | Mental Capacity | Mental Health Service | Positive Behaviour Support (ADS) | Skin Health | Safeguarding \nFind out more and apply here \nNote – This is an application\, not a booking. If approved\, you will be invited to book.
URL:https://www.hcpa.info/courses/care-home-medication-champion-application-2/
CATEGORIES:Care topics,Champions
END:VEVENT
END:VCALENDAR