BEGIN:VCALENDAR
VERSION:2.0
PRODID:-//HCPA - ECPv6.15.12.1//NONSGML v1.0//EN
CALSCALE:GREGORIAN
METHOD:PUBLISH
X-WR-CALNAME:HCPA
X-ORIGINAL-URL:https://www.hcpa.info
X-WR-CALDESC:Events for HCPA
REFRESH-INTERVAL;VALUE=DURATION:PT1H
X-Robots-Tag:noindex
X-PUBLISHED-TTL:PT1H
BEGIN:VTIMEZONE
TZID:Europe/London
BEGIN:DAYLIGHT
TZOFFSETFROM:+0000
TZOFFSETTO:+0100
TZNAME:BST
DTSTART:20250330T010000
END:DAYLIGHT
BEGIN:STANDARD
TZOFFSETFROM:+0100
TZOFFSETTO:+0000
TZNAME:GMT
DTSTART:20251026T010000
END:STANDARD
BEGIN:DAYLIGHT
TZOFFSETFROM:+0000
TZOFFSETTO:+0100
TZNAME:BST
DTSTART:20260329T010000
END:DAYLIGHT
BEGIN:STANDARD
TZOFFSETFROM:+0100
TZOFFSETTO:+0000
TZNAME:GMT
DTSTART:20261025T010000
END:STANDARD
BEGIN:DAYLIGHT
TZOFFSETFROM:+0000
TZOFFSETTO:+0100
TZNAME:BST
DTSTART:20270328T010000
END:DAYLIGHT
BEGIN:STANDARD
TZOFFSETFROM:+0100
TZOFFSETTO:+0000
TZNAME:GMT
DTSTART:20271031T010000
END:STANDARD
END:VTIMEZONE
BEGIN:VEVENT
DTSTART;TZID=Europe/London:20260121T100000
DTEND;TZID=Europe/London:20260121T160000
DTSTAMP:20260425T200802
CREATED:20250904T141229Z
LAST-MODIFIED:20251208T161641Z
UID:10002005-1768989600-1769011200@www.hcpa.info
SUMMARY:Skin Health CHAMPION - Application
DESCRIPTION:  \n  \nCourse fees: HCPA Full Member: Fully funded* | ACE Member: £264+VAT | Associate Member: £300+VAT | Non-member: £400+VAT\nFour day programme open for applications\nDay 1: 21/01/2026 | Day 2: 22/01/2026 | Day 3: 28/01/2026 | Day 4: 29/01/2026\nAll sessions must be attended \nLead Excellence in Care with HCPA Champions\nEmpower your team by developing experienced colleagues to become HCPA Champions – individuals who influence positive\, high-quality change within their care services. \nWhat is an HCPA Champion?\nA Champion is a trained experienced care professional who drives improvements in care practices\, embeds governance\, and models excellence across the organisation.\nThe programmes equip Champions with the confidence\, tools\, and knowledge to influence change\, support colleagues\, and apply best practice consistently.\nChampions revalidate every two years by evidencing change through action plans\, case studies\, and continuing professional development. \nWhy have Champions?\nCare Managers cannot do everything\, they need support from trusted staff to ensure the service remains compliant with evolving national and local guidance. Champions mentor peers\, influence care delivery\, and maintain elevated care standards through ongoing governance and learning. \nWe suggest care providers have a Champion in each relevant topic area. To ensure quality and focus\, each individual may only be a Champion in up to two topic areas: \nThe Skin Health CHAMPION course will enable Care professionals to take on the role of Champion within their organisation for this topic. The Champion will have a clear understanding of local and national guidance and legislation for and will cascade this information amongst care teams\, improving the safety and quality of care for individuals. \nLearning Outcomes:\n• Understand the impact of National and local drivers for wound care informing practice\n• Develop knowledge in Anatomy & Physiology of the skin and wound healing\n• Review the importance of accurate Holistic Wound assessment and the impact on wound healing\n• Identify management options and the introduction of local pathways\n• Increased knowledge in common dressing products selected according to wound type\, practical session\n• Develop skills and knowledge in the Prevention and management of Skin tears\, practical session\n• Understand anatomy & physiology of vascular and lymphatic systems to determine disease progression\n• Explore risk factors for leg ulceration and oedema\n• Identify management options and introduction of local pathways\n• Understand the principles of lower limb assessment\n• Explore benefits of compression therapy and barriers to implementation\n• Practice effective lower limb skin care application of hosiery and wraps.\n• Explore foot health in care settings and care of the diabetic foot\n• Gain knowledge of national and local drivers for pressure ulcer prevention\n• Review the physiology of pressure ulcer development\n• Gain skills and knowledge in identification of pressure damage\n• Discuss how to use ASSKING care bundles with the Great Skin tools in care settings\n• Improve understanding of why surface is important (to include seating and posture) practical training\n• Improve skills in inspection of patients/resident’s skin for areas of risk or damage (risk assessment)\n• Understand why /how it is important to keep patients/residents moving (practical training)\n• Discuss prevention of skin damage caused by moisture\n• Apply the principles of nutrition to pressure ulcer prevention\n• Understand the importance of developing skills and knowledge in giving information and teaching colleagues\, residents and their families in the care setting to raise awareness and reduce risk. \nFind out more and apply here \nNote – This is an application\, not a booking. If approved\, you will be invited to book.
URL:https://www.hcpa.info/courses/skin-health-champion-application-2/
CATEGORIES:Care topics,Champions
END:VEVENT
END:VCALENDAR