BEGIN:VCALENDAR
VERSION:2.0
PRODID:-//HCPA - ECPv6.15.12.1//NONSGML v1.0//EN
CALSCALE:GREGORIAN
METHOD:PUBLISH
X-WR-CALNAME:HCPA
X-ORIGINAL-URL:https://www.hcpa.info
X-WR-CALDESC:Events for HCPA
REFRESH-INTERVAL;VALUE=DURATION:PT1H
X-Robots-Tag:noindex
X-PUBLISHED-TTL:PT1H
BEGIN:VTIMEZONE
TZID:Europe/London
BEGIN:DAYLIGHT
TZOFFSETFROM:+0000
TZOFFSETTO:+0100
TZNAME:BST
DTSTART:20250330T010000
END:DAYLIGHT
BEGIN:STANDARD
TZOFFSETFROM:+0100
TZOFFSETTO:+0000
TZNAME:GMT
DTSTART:20251026T010000
END:STANDARD
BEGIN:DAYLIGHT
TZOFFSETFROM:+0000
TZOFFSETTO:+0100
TZNAME:BST
DTSTART:20260329T010000
END:DAYLIGHT
BEGIN:STANDARD
TZOFFSETFROM:+0100
TZOFFSETTO:+0000
TZNAME:GMT
DTSTART:20261025T010000
END:STANDARD
BEGIN:DAYLIGHT
TZOFFSETFROM:+0000
TZOFFSETTO:+0100
TZNAME:BST
DTSTART:20270328T010000
END:DAYLIGHT
BEGIN:STANDARD
TZOFFSETFROM:+0100
TZOFFSETTO:+0000
TZNAME:GMT
DTSTART:20271031T010000
END:STANDARD
END:VTIMEZONE
BEGIN:VEVENT
DTSTART;TZID=Europe/London:20260112T100000
DTEND;TZID=Europe/London:20260112T160000
DTSTAMP:20260425T200910
CREATED:20251023T134413Z
LAST-MODIFIED:20251208T161200Z
UID:10002064-1768212000-1768233600@www.hcpa.info
SUMMARY:Safeguarding CHAMPION - Application
DESCRIPTION:  \n  \nCourse fees: HCPA Full Member: Fully funded* | ACE Member: £264+VAT | Associate Member: £300+VAT | Non-member: £400+VAT\nFour day programme open for applications\nDay 1: 12/01/2026 | Day 2: 19/01/2026 | Day 3: 26/01/2026 | Day 4: 02/02/2026\nAll sessions must be attended \nLead Excellence in Care with HCPA Champions\nEmpower your team by developing experienced colleagues to become HCPA Champions – individuals who influence positive\, high-quality change within their care services. \nWhat is an HCPA Champion?\nA Champion is a trained experienced care professional who drives improvements in care practices\, embeds governance\, and models excellence across the organisation.\nThe programmes equip Champions with the confidence\, tools\, and knowledge to influence change\, support colleagues\, and apply best practice consistently.\nChampions revalidate every two years by evidencing change through action plans\, case studies\, and continuing professional development. \nWhy have Champions?\nCare Managers cannot do everything\, they need support from trusted staff to ensure the service remains compliant with evolving national and local guidance. Champions mentor peers\, influence care delivery\, and maintain elevated care standards through ongoing governance and learning. \nWe suggest care providers have a Champion in each relevant topic area. To ensure quality and focus\, each individual may only be a Champion in up to two topic areas: \n Care Culture | Data Security & Protection | Dementia | Enablement | End of Life | Engagement | Falls & Frailty | Infection Prevention & Control | Medication | Mental Capacity | Mental Health Service | Positive Behaviour Support (ADS) | Skin Health | Safeguarding \nFind out more and apply here \nNote – This is an application\, not a booking. If approved\, you will be invited to book.
URL:https://www.hcpa.info/courses/safeguarding-champion-application/
CATEGORIES:Care topics,Champions
END:VEVENT
END:VCALENDAR