BEGIN:VCALENDAR
VERSION:2.0
PRODID:-//HCPA - ECPv6.15.12.1//NONSGML v1.0//EN
CALSCALE:GREGORIAN
METHOD:PUBLISH
X-WR-CALNAME:HCPA
X-ORIGINAL-URL:https://www.hcpa.info
X-WR-CALDESC:Events for HCPA
REFRESH-INTERVAL;VALUE=DURATION:PT1H
X-Robots-Tag:noindex
X-PUBLISHED-TTL:PT1H
BEGIN:VTIMEZONE
TZID:Europe/London
BEGIN:DAYLIGHT
TZOFFSETFROM:+0000
TZOFFSETTO:+0100
TZNAME:BST
DTSTART:20250330T010000
END:DAYLIGHT
BEGIN:STANDARD
TZOFFSETFROM:+0100
TZOFFSETTO:+0000
TZNAME:GMT
DTSTART:20251026T010000
END:STANDARD
BEGIN:DAYLIGHT
TZOFFSETFROM:+0000
TZOFFSETTO:+0100
TZNAME:BST
DTSTART:20260329T010000
END:DAYLIGHT
BEGIN:STANDARD
TZOFFSETFROM:+0100
TZOFFSETTO:+0000
TZNAME:GMT
DTSTART:20261025T010000
END:STANDARD
BEGIN:DAYLIGHT
TZOFFSETFROM:+0000
TZOFFSETTO:+0100
TZNAME:BST
DTSTART:20270328T010000
END:DAYLIGHT
BEGIN:STANDARD
TZOFFSETFROM:+0100
TZOFFSETTO:+0000
TZNAME:GMT
DTSTART:20271031T010000
END:STANDARD
END:VTIMEZONE
BEGIN:VEVENT
DTSTART;TZID=Europe/London:20260112T100000
DTEND;TZID=Europe/London:20260112T160000
DTSTAMP:20260425T185003
CREATED:20251023T134413Z
LAST-MODIFIED:20251208T161200Z
UID:10002064-1768212000-1768233600@www.hcpa.info
SUMMARY:Safeguarding CHAMPION - Application
DESCRIPTION:  \n  \nCourse fees: HCPA Full Member: Fully funded* | ACE Member: £264+VAT | Associate Member: £300+VAT | Non-member: £400+VAT\nFour day programme open for applications\nDay 1: 12/01/2026 | Day 2: 19/01/2026 | Day 3: 26/01/2026 | Day 4: 02/02/2026\nAll sessions must be attended \nLead Excellence in Care with HCPA Champions\nEmpower your team by developing experienced colleagues to become HCPA Champions – individuals who influence positive\, high-quality change within their care services. \nWhat is an HCPA Champion?\nA Champion is a trained experienced care professional who drives improvements in care practices\, embeds governance\, and models excellence across the organisation.\nThe programmes equip Champions with the confidence\, tools\, and knowledge to influence change\, support colleagues\, and apply best practice consistently.\nChampions revalidate every two years by evidencing change through action plans\, case studies\, and continuing professional development. \nWhy have Champions?\nCare Managers cannot do everything\, they need support from trusted staff to ensure the service remains compliant with evolving national and local guidance. Champions mentor peers\, influence care delivery\, and maintain elevated care standards through ongoing governance and learning. \nWe suggest care providers have a Champion in each relevant topic area. To ensure quality and focus\, each individual may only be a Champion in up to two topic areas: \n Care Culture | Data Security & Protection | Dementia | Enablement | End of Life | Engagement | Falls & Frailty | Infection Prevention & Control | Medication | Mental Capacity | Mental Health Service | Positive Behaviour Support (ADS) | Skin Health | Safeguarding \nFind out more and apply here \nNote – This is an application\, not a booking. If approved\, you will be invited to book.
URL:https://www.hcpa.info/courses/safeguarding-champion-application/
CATEGORIES:Care topics,Champions
END:VEVENT
BEGIN:VEVENT
DTSTART;TZID=Europe/London:20260114T100000
DTEND;TZID=Europe/London:20260114T123000
DTSTAMP:20260425T185003
CREATED:20251114T104052Z
LAST-MODIFIED:20251122T171524Z
UID:10002128-1768384800-1768393800@www.hcpa.info
SUMMARY:End of Life - Planning for the Future - An Introduction to Advance Care Planning
DESCRIPTION:Half day webinar via Zoom! \nWe are delighted to host on behalf of Hertfordshire Hospices a brief overview of future planning of care for service users with a life-limiting condition\, frailty\, a learning disability or multiple co-morbidities \nLearning Outcomes:\n• Develop an understanding of what Advance care planning is.\n• Recognise the relevance\, benefits and challenges of Advance Care Planning with relevance to delegate area of practice.\n• Be aware of the key principles and some of the tools that can be used for effective Advance Care Planning ( Including ReSPECT \nEntry requirements – Learners must have completed their induction \nCLICK HERE TO REGISTER\n*Please note: As per our T&C’s\, this course carries a fee in the event of non-attendance\, non-completion or late cancellation.\nBookings of more than two delegates per site may be amended to allow access to all member organisations at the discretion of HCPA.\nDelegates who are late may not be admitted into the training and a cost incurred \n 
URL:https://www.hcpa.info/courses/end-of-life-planning-for-the-future-an-introduction-to-advance-care-planning-online-learning-session/
LOCATION:Virtual Classroom
CATEGORIES:Care topics
END:VEVENT
BEGIN:VEVENT
DTSTART;TZID=Europe/London:20260114T100000
DTEND;TZID=Europe/London:20260114T160000
DTSTAMP:20260425T185003
CREATED:20250904T150122Z
LAST-MODIFIED:20251216T101537Z
UID:10002006-1768384800-1768406400@www.hcpa.info
SUMMARY:Wound Management CPD for Nurses
DESCRIPTION:  \n  \nCourse fee: Non-member: £150+VAT\nAssociate Member: £75+VAT | ACE Member: £100+VAT | HCPA Full Member: Fully funded* \nTwo day course at HCPA\nDay 1: 14/01/2026\nDay 2: 15/01/2026 \nThis interactive course will provide valuable insight into current local and national drivers directing management of pressure ulcers and wound care. There will be revision of anatomy and physiology of wounds and wound healing \, pressure ulcer prevention\, identification and management. Practical sessions in wound dressings selection and how to use ‘Great Skin’ resources. \nLearning objectives: \nWound Management Day 1\n• Understand the impact of National and local drivers for wound care\n• Revision of Anatomy & Physiology of the skin and wound healing\n• Understanding the importance of accurate Holistic Wound assessment\n• Identify management options and introduction of local pathways\n• Gaining knowledge in prevention and management of Skin tears\n• Developing further skills in dressing products selection according to wound type\n• Identifying and managing lower limb conditions\n• Explore foot health in care settings and care of the diabetic foot \nPressure ulcer Prevention and Management Day 2\n• Gain knowledge of national and local drivers for pressure ulcer prevention\n• Review the physiology of pressure ulcer development and identification of pressure damage\n• Implement ASSKING care bundles with ‘Great Skin’ resources into care settings with application to surface including seating and posture\, skin inspection\, risk assessment\, keeping patients/residents moving\, continence management and good nutrition\n• Understand the importance of developing skills and knowledge in giving information and teaching colleagues\, residents and their families in the care setting to raise awareness and reduce risk. \n*Please note: As per our T&C’s\, this course carries a fee in the event of non-attendance\, non-completion or late cancellation.\nBookings of more than two delegates per site may be amended to allow access to all member organisations at the discretion of HCPA.\nDelegates who are late may not be admitted into the training and a cost incurred
URL:https://www.hcpa.info/courses/wound-management-cpd-for-nurses/
LOCATION:HCPA\, Mundells Campus\, Mundells\, Welwyn Garden City\, AL7 1FT
CATEGORIES:Care topics
END:VEVENT
BEGIN:VEVENT
DTSTART;TZID=Europe/London:20260115T100000
DTEND;TZID=Europe/London:20260115T160000
DTSTAMP:20260425T185003
CREATED:20250818T084049Z
LAST-MODIFIED:20251208T161342Z
UID:10001981-1768471200-1768492800@www.hcpa.info
SUMMARY:Nutrition CHAMPION - Application
DESCRIPTION:  \n  \nCourse fees: HCPA Full Member: Fully funded* | ACE Member: £264+VAT | Associate Member: £300+VAT | Non-member: £400+VAT\nFour day programme open for applications\nDay 1: 15/01/2026 | Day 2: 16/01/2026 | Day 3: 21/01/2026 | Day 4: 22/01/2026\nAll sessions must be attended \nLead Excellence in Care with HCPA Champions\nEmpower your team by developing experienced colleagues to become HCPA Champions – individuals who influence positive\, high-quality change within their care services. \nWhat is an HCPA Champion?\nA Champion is a trained experienced care professional who drives improvements in care practices\, embeds governance\, and models excellence across the organisation.\nThe programmes equip Champions with the confidence\, tools\, and knowledge to influence change\, support colleagues\, and apply best practice consistently.\nChampions revalidate every two years by evidencing change through action plans\, case studies\, and continuing professional development. \nWhy have Champions?\nCare Managers cannot do everything\, they need support from trusted staff to ensure the service remains compliant with evolving national and local guidance. Champions mentor peers\, influence care delivery\, and maintain elevated care standards through ongoing governance and learning. \nWe suggest care providers have a Champion in each relevant topic area. To ensure quality and focus\, each individual may only be a Champion in up to two topic areas: \nThe Nutrition CHAMPION course will enable Care professionals to take on the role of Champion within their organisation for this topic. The Champion will have a clear understanding of local and national guidance and legislation for and will cascade this information amongst care teams\, improving the safety and quality of care for individuals. \nLearning Outcomes:\n• Define the role of a Nutrition Champion and explain how this role benefits their organisation by promoting person-centred\, evidence-based nutritional care.\n• Describe common nutritional needs and challenges in adult care\, including the impact of malnutrition\, dehydration\, and specific dietary requirements on health and wellbeing.\n• Explain relevant local and national guidance\, legislation\, and best practices relating to nutrition in adult care settings.\n• Apply the SMART goal-setting process to develop tailored nutrition care plans that support individual preferences and health outcomes.\n• Demonstrate effective communication techniques to promote positive conversations about nutrition and provide supportive responses when individuals face barriers to healthy eating.\n• Implement person-centred approaches that promote dignity\, choice\, and independence in relation to food and drink.\n• Analyse barriers to good nutrition in care settings and identify strategies to overcome these\, such as environmental\, cultural\, or organisational challenges.\n• Evaluate the importance of multi-disciplinary collaboration\, including input from dietitians\, speech and language therapists\, and other professionals\, to support individuals with complex nutritional needs.\n• Assess the effectiveness of nutrition interventions and care practices\, recommending improvements to enhance health outcomes and reduce risks such as malnutrition and dehydration.\n• Develop a SMART goal-driven action plan to embed good nutritional care principles within services\, raising awareness\, reducing risks\, and improving the overall quality of care. \nFind out more and apply here \nNote – This is an application\, not a booking. If approved\, you will be invited to book.
URL:https://www.hcpa.info/courses/nutrition-champion-application-2/
CATEGORIES:Care topics,Champions,Prevention & Enablement
END:VEVENT
BEGIN:VEVENT
DTSTART;TZID=Europe/London:20260115T100000
DTEND;TZID=Europe/London:20260115T160000
DTSTAMP:20260425T185003
CREATED:20251023T152321Z
LAST-MODIFIED:20260114T220700Z
UID:10002069-1768471200-1768492800@www.hcpa.info
SUMMARY:Trauma Informed Approaches and becoming a trauma informed organisation
DESCRIPTION:Course fee: HCPA Full Member: Fully funded*\nAssociate Member: £37.50+VAT | ACE Member: £50+VAT | Non-member: £75+VAT  \nOne day course at HCPA \nDelegates will have an opportunity to understand the widespread nature of trauma within populations\, and how these can manifest on both an individual\, community\, cultural and national level. \nDelegates will learn how traumatic experiences\, especially those in childhood can fundamentally affect the way in which brain development occurs and will explore different types of trauma responses. They will also learn a key principle of being trauma informed is by looking beyond presenting behaviours and understand trauma informed approaches are not a specific intervention\, rather an organisational change to how people within all levels of an organisation are treated. This organisational change has multiple benefits to all people at all levels\, not just those who use services. \nDelegates will spend the second half of the day being shown a step-by-step guide on how to use the TrACE toolkit to; ready\, review\, monitor and evaluate their own trauma informed journey and have an opportunity to network with other delegates to support their individual journeys further. \nLearning objectives:\n• The prevalence of trauma\, especially Adverse Childhood Experiences (ACEs) within society.\n• That trauma is a natural response to abnormal experiences.\n• Consider types of experiences that can lead to trauma.\n• Explore the link between ACEs and poor adult health outcomes.\n• Understand key points of attachment theory.\n• Understand how trauma can change the flight and fight response and\, how this can subsequently cause a lifelong impact on a person’s behaviour.\n• Understand the 4 R’s of being trauma aware and the 6 principles of trauma approaches.\n• Step-by-step guide on how to become a trauma informed organisation using the 4 stages of the TrACE toolkit.\n \n*Please note: As per our T&C’s\, this course carries a fee in the event of non-attendance\, non-completion or late cancellation.\nBookings of more than two delegates per site may be amended to allow access to all member organisations at the discretion of HCPA.\nDelegates who are late may not be admitted into the training and a cost incurred
URL:https://www.hcpa.info/courses/trauma-informed-approaches-and-becoming-a-trauma-informed-organisation/
LOCATION:HCPA\, Mundells Campus\, Mundells\, Welwyn Garden City\, AL7 1FT
CATEGORIES:Care topics
END:VEVENT
BEGIN:VEVENT
DTSTART;TZID=Europe/London:20260121T100000
DTEND;TZID=Europe/London:20260121T160000
DTSTAMP:20260425T185003
CREATED:20250904T141229Z
LAST-MODIFIED:20251208T161641Z
UID:10002005-1768989600-1769011200@www.hcpa.info
SUMMARY:Skin Health CHAMPION - Application
DESCRIPTION:  \n  \nCourse fees: HCPA Full Member: Fully funded* | ACE Member: £264+VAT | Associate Member: £300+VAT | Non-member: £400+VAT\nFour day programme open for applications\nDay 1: 21/01/2026 | Day 2: 22/01/2026 | Day 3: 28/01/2026 | Day 4: 29/01/2026\nAll sessions must be attended \nLead Excellence in Care with HCPA Champions\nEmpower your team by developing experienced colleagues to become HCPA Champions – individuals who influence positive\, high-quality change within their care services. \nWhat is an HCPA Champion?\nA Champion is a trained experienced care professional who drives improvements in care practices\, embeds governance\, and models excellence across the organisation.\nThe programmes equip Champions with the confidence\, tools\, and knowledge to influence change\, support colleagues\, and apply best practice consistently.\nChampions revalidate every two years by evidencing change through action plans\, case studies\, and continuing professional development. \nWhy have Champions?\nCare Managers cannot do everything\, they need support from trusted staff to ensure the service remains compliant with evolving national and local guidance. Champions mentor peers\, influence care delivery\, and maintain elevated care standards through ongoing governance and learning. \nWe suggest care providers have a Champion in each relevant topic area. To ensure quality and focus\, each individual may only be a Champion in up to two topic areas: \nThe Skin Health CHAMPION course will enable Care professionals to take on the role of Champion within their organisation for this topic. The Champion will have a clear understanding of local and national guidance and legislation for and will cascade this information amongst care teams\, improving the safety and quality of care for individuals. \nLearning Outcomes:\n• Understand the impact of National and local drivers for wound care informing practice\n• Develop knowledge in Anatomy & Physiology of the skin and wound healing\n• Review the importance of accurate Holistic Wound assessment and the impact on wound healing\n• Identify management options and the introduction of local pathways\n• Increased knowledge in common dressing products selected according to wound type\, practical session\n• Develop skills and knowledge in the Prevention and management of Skin tears\, practical session\n• Understand anatomy & physiology of vascular and lymphatic systems to determine disease progression\n• Explore risk factors for leg ulceration and oedema\n• Identify management options and introduction of local pathways\n• Understand the principles of lower limb assessment\n• Explore benefits of compression therapy and barriers to implementation\n• Practice effective lower limb skin care application of hosiery and wraps.\n• Explore foot health in care settings and care of the diabetic foot\n• Gain knowledge of national and local drivers for pressure ulcer prevention\n• Review the physiology of pressure ulcer development\n• Gain skills and knowledge in identification of pressure damage\n• Discuss how to use ASSKING care bundles with the Great Skin tools in care settings\n• Improve understanding of why surface is important (to include seating and posture) practical training\n• Improve skills in inspection of patients/resident’s skin for areas of risk or damage (risk assessment)\n• Understand why /how it is important to keep patients/residents moving (practical training)\n• Discuss prevention of skin damage caused by moisture\n• Apply the principles of nutrition to pressure ulcer prevention\n• Understand the importance of developing skills and knowledge in giving information and teaching colleagues\, residents and their families in the care setting to raise awareness and reduce risk. \nFind out more and apply here \nNote – This is an application\, not a booking. If approved\, you will be invited to book.
URL:https://www.hcpa.info/courses/skin-health-champion-application-2/
CATEGORIES:Care topics,Champions
END:VEVENT
END:VCALENDAR