BEGIN:VCALENDAR
VERSION:2.0
PRODID:-//HCPA - ECPv6.15.12.1//NONSGML v1.0//EN
CALSCALE:GREGORIAN
METHOD:PUBLISH
X-WR-CALNAME:HCPA
X-ORIGINAL-URL:https://www.hcpa.info
X-WR-CALDESC:Events for HCPA
REFRESH-INTERVAL;VALUE=DURATION:PT1H
X-Robots-Tag:noindex
X-PUBLISHED-TTL:PT1H
BEGIN:VTIMEZONE
TZID:Europe/London
BEGIN:DAYLIGHT
TZOFFSETFROM:+0000
TZOFFSETTO:+0100
TZNAME:BST
DTSTART:20250330T010000
END:DAYLIGHT
BEGIN:STANDARD
TZOFFSETFROM:+0100
TZOFFSETTO:+0000
TZNAME:GMT
DTSTART:20251026T010000
END:STANDARD
BEGIN:DAYLIGHT
TZOFFSETFROM:+0000
TZOFFSETTO:+0100
TZNAME:BST
DTSTART:20260329T010000
END:DAYLIGHT
BEGIN:STANDARD
TZOFFSETFROM:+0100
TZOFFSETTO:+0000
TZNAME:GMT
DTSTART:20261025T010000
END:STANDARD
BEGIN:DAYLIGHT
TZOFFSETFROM:+0000
TZOFFSETTO:+0100
TZNAME:BST
DTSTART:20270328T010000
END:DAYLIGHT
BEGIN:STANDARD
TZOFFSETFROM:+0100
TZOFFSETTO:+0000
TZNAME:GMT
DTSTART:20271031T010000
END:STANDARD
END:VTIMEZONE
BEGIN:VEVENT
DTSTART;TZID=Europe/London:20260619T100000
DTEND;TZID=Europe/London:20260619T120000
DTSTAMP:20260420T140734
CREATED:20260309T143824Z
LAST-MODIFIED:20260327T232019Z
UID:10002344-1781863200-1781870400@www.hcpa.info
SUMMARY:Effective Observations and Competency Management
DESCRIPTION:  \n  \nCourse fee: HCPA Standard Member: Fully funded*\nAssociate/Network Member: £25+VAT | Non-member: £50+VAT  \nHalf day webinar via Zoom\nThis course equips managers and team leaders with the skills and knowledge to conduct formal workplace observations that align with organisational standards and best practices. Effective observation and feedback are essential for ensuring staff meet competency requirements and continuously improve their performance. \nParticipants will explore the principles of formal observation\, including how to identify key competencies relevant to their roles. The course provides practical guidance on setting up and conducting structured\, competency-based observations\, ensuring a fair and consistent approach. In addition\, attendees will learn how to provide constructive feedback that fosters professional development and supports staff in achieving their full potential. \nEntry Requirements: Learners must be in a management role to attend this course. \nLearning Objectives: \n\nUnderstand the principles of formal observation in the workplace. \nIdentify key competencies to observe in line with organizational standards and best practices. \nExplain how to set up and conduct effective competency-based observations. \nProvide constructive feedback following observations to support staff development and improvement. \n\n*Please note: As per our T&C’s\, this course carries a fee in the event of non-attendance\, non-completion or late cancellation.\nBookings of more than two delegates per site may be amended to allow access to all member organisations at the discretion of HCPA.\nDelegates who are late may not be admitted into the training and a cost incurred
URL:https://www.hcpa.info/courses/effective-observations-and-competency-management-2/
LOCATION:Virtual Classroom
CATEGORIES:Care Leadership Courses
END:VEVENT
END:VCALENDAR