BEGIN:VCALENDAR
VERSION:2.0
PRODID:-//HCPA - ECPv6.15.12.1//NONSGML v1.0//EN
CALSCALE:GREGORIAN
METHOD:PUBLISH
X-WR-CALNAME:HCPA
X-ORIGINAL-URL:https://www.hcpa.info
X-WR-CALDESC:Events for HCPA
REFRESH-INTERVAL;VALUE=DURATION:PT1H
X-Robots-Tag:noindex
X-PUBLISHED-TTL:PT1H
BEGIN:VTIMEZONE
TZID:Europe/London
BEGIN:DAYLIGHT
TZOFFSETFROM:+0000
TZOFFSETTO:+0100
TZNAME:BST
DTSTART:20250330T010000
END:DAYLIGHT
BEGIN:STANDARD
TZOFFSETFROM:+0100
TZOFFSETTO:+0000
TZNAME:GMT
DTSTART:20251026T010000
END:STANDARD
BEGIN:DAYLIGHT
TZOFFSETFROM:+0000
TZOFFSETTO:+0100
TZNAME:BST
DTSTART:20260329T010000
END:DAYLIGHT
BEGIN:STANDARD
TZOFFSETFROM:+0100
TZOFFSETTO:+0000
TZNAME:GMT
DTSTART:20261025T010000
END:STANDARD
BEGIN:DAYLIGHT
TZOFFSETFROM:+0000
TZOFFSETTO:+0100
TZNAME:BST
DTSTART:20270328T010000
END:DAYLIGHT
BEGIN:STANDARD
TZOFFSETFROM:+0100
TZOFFSETTO:+0000
TZNAME:GMT
DTSTART:20271031T010000
END:STANDARD
END:VTIMEZONE
BEGIN:VEVENT
DTSTART;TZID=Europe/London:20260618T100000
DTEND;TZID=Europe/London:20260618T130000
DTSTAMP:20260420T135712
CREATED:20260309T125213Z
LAST-MODIFIED:20260327T231904Z
UID:10002340-1781776800-1781787600@www.hcpa.info
SUMMARY:Homecare Medication Governance
DESCRIPTION:Course fee: HCPA Standard Member: Fully funded*\nAssociate/Network Member: £25+VAT | Non-member: £50+VAT  \n3 hour course via Virtual Classroom\n\nThis course is to provide an understanding of the governance processes for medication administration in the setting. It is suitable for managers and leaders of care providers interested in expanding their skills and knowledge on safe medicine administration in their organisation. \nLearning Outcomes\n• Understand the legislation and guidance underpinning medication governance and how you can embed this using the medication standards document\n• Ensure the service understands and is meeting the regulatory and local monitoring requirements for medication administration\, including the consequences of incorrect practice\n• Recognise and review the responsibilities involved in effective medication practice throughout the organisation\, including process for escalations\n• To have clear guidance and structure regarding the roles\, responsibilities\, and accountabilities with different roles for medication administration\n• Understand good methods of communication with the wider staff teams and explore how you will establish ongoing communication to the wider team on good medication practice. \n*Please note: As per our T&C’s\, this course carries a fee in the event of non-attendance\, non-completion or late cancellation.\nDelegates who are late may not be admitted into the training and a cost incurred
URL:https://www.hcpa.info/courses/homecare-medication-governance-2/
LOCATION:Virtual Classroom
CATEGORIES:Care Leadership Courses
END:VEVENT
END:VCALENDAR