BEGIN:VCALENDAR
VERSION:2.0
PRODID:-//HCPA - ECPv6.15.12.1//NONSGML v1.0//EN
CALSCALE:GREGORIAN
METHOD:PUBLISH
X-ORIGINAL-URL:https://www.hcpa.info
X-WR-CALDESC:Events for HCPA
REFRESH-INTERVAL;VALUE=DURATION:PT1H
X-Robots-Tag:noindex
X-PUBLISHED-TTL:PT1H
BEGIN:VTIMEZONE
TZID:Europe/London
BEGIN:DAYLIGHT
TZOFFSETFROM:+0000
TZOFFSETTO:+0100
TZNAME:BST
DTSTART:20250330T010000
END:DAYLIGHT
BEGIN:STANDARD
TZOFFSETFROM:+0100
TZOFFSETTO:+0000
TZNAME:GMT
DTSTART:20251026T010000
END:STANDARD
BEGIN:DAYLIGHT
TZOFFSETFROM:+0000
TZOFFSETTO:+0100
TZNAME:BST
DTSTART:20260329T010000
END:DAYLIGHT
BEGIN:STANDARD
TZOFFSETFROM:+0100
TZOFFSETTO:+0000
TZNAME:GMT
DTSTART:20261025T010000
END:STANDARD
BEGIN:DAYLIGHT
TZOFFSETFROM:+0000
TZOFFSETTO:+0100
TZNAME:BST
DTSTART:20270328T010000
END:DAYLIGHT
BEGIN:STANDARD
TZOFFSETFROM:+0100
TZOFFSETTO:+0000
TZNAME:GMT
DTSTART:20271031T010000
END:STANDARD
END:VTIMEZONE
BEGIN:VEVENT
DTSTART;TZID=Europe/London:20260528T100000
DTEND;TZID=Europe/London:20260528T160000
DTSTAMP:20260420T123934
CREATED:20260304T135645Z
LAST-MODIFIED:20260304T135645Z
UID:10002316-1779962400-1779984000@www.hcpa.info
SUMMARY:Build Resilience by Understanding Self-Management Skills
DESCRIPTION:    \nCourse fee: £112.50 +VAT\nThis course is eligible for funding re-imbursement via the Learning & Development Support Scheme (LDSS). Read more about the Department of Health and Social Care (DHSC) Learning and Development Support Scheme here! \nOne day course via Virtual Classroom\nThis practical CPD module is aimed at leaders and other managers currently working in adult social care services. \nBeing a manager in social care can feel isolating and overwhelming. This course is designed to support your wellbeing\, helping you stay strong\, reflective\, and resourceful. You’ll learn with peers\, sharing experiences and building your network\, not studying alone.\nThis interactive course focuses on developing resilience\, emotional intelligence\, and wellbeing strategies to support managers in today’s demanding care environment. It’s designed to help managers feel more confident\, connected\, and capable\, not just in leading teams\, but in sustaining their own energy and effectiveness. \nWhether you’re a care manager or aspiring leader\, this course will help you. \nLearning Outcomes\n• Explore wellbeing and the potential impact it has on their practice\n• Understand how a level of self-awareness contributes to how they manage themselves and others\n• Understand what resilience is (and is not)\n• Reflect on own personal resilience wheels and start to plan actions to support their development\n• Understand how the relevant theories and models can lead to greater self-awareness. \nJoin us to build your skills\, enhance your leadership\, and boost your team’s performance. \nAs HCPA hold the Quality Assured Learning Service (QACLS) benchmark\, you can confidently book this programme\, knowing the training is of an exceptionally high standard and will provide you with the vital skills needed to successfully lead.\n \nThis course is eligible for Adult Social Care providers to claim 100% cost reimbursement through the Learning and Development Support Scheme (LDSS)*. \n*Please note: As per our T&C’s\, this course carries a fee. Please refer to the T&C’s  in the event of non-attendance\, non-completion or late cancellation.\nClaims can only be made by the care provider\, individuals are not eligible to claim directly.
URL:https://www.hcpa.info/courses/build-resilience-by-understanding-self-management-skills-3/
LOCATION:Virtual Classroom
CATEGORIES:Care Leadership Courses,Leadership & Management Skills
END:VEVENT
END:VCALENDAR