BEGIN:VCALENDAR
VERSION:2.0
PRODID:-//HCPA - ECPv6.15.12.1//NONSGML v1.0//EN
CALSCALE:GREGORIAN
METHOD:PUBLISH
X-WR-CALNAME:HCPA
X-ORIGINAL-URL:https://www.hcpa.info
X-WR-CALDESC:Events for HCPA
REFRESH-INTERVAL;VALUE=DURATION:PT1H
X-Robots-Tag:noindex
X-PUBLISHED-TTL:PT1H
BEGIN:VTIMEZONE
TZID:Europe/London
BEGIN:DAYLIGHT
TZOFFSETFROM:+0000
TZOFFSETTO:+0100
TZNAME:BST
DTSTART:20250330T010000
END:DAYLIGHT
BEGIN:STANDARD
TZOFFSETFROM:+0100
TZOFFSETTO:+0000
TZNAME:GMT
DTSTART:20251026T010000
END:STANDARD
BEGIN:DAYLIGHT
TZOFFSETFROM:+0000
TZOFFSETTO:+0100
TZNAME:BST
DTSTART:20260329T010000
END:DAYLIGHT
BEGIN:STANDARD
TZOFFSETFROM:+0100
TZOFFSETTO:+0000
TZNAME:GMT
DTSTART:20261025T010000
END:STANDARD
BEGIN:DAYLIGHT
TZOFFSETFROM:+0000
TZOFFSETTO:+0100
TZNAME:BST
DTSTART:20270328T010000
END:DAYLIGHT
BEGIN:STANDARD
TZOFFSETFROM:+0100
TZOFFSETTO:+0000
TZNAME:GMT
DTSTART:20271031T010000
END:STANDARD
END:VTIMEZONE
BEGIN:VEVENT
DTSTART;TZID=Europe/London:20260422T093000
DTEND;TZID=Europe/London:20260422T163000
DTSTAMP:20260422T021818
CREATED:20260224T162156Z
LAST-MODIFIED:20260421T214807Z
UID:10002273-1776850200-1776875400@www.hcpa.info
SUMMARY:The Oliver McGowan Mandatory Training on Learning Disability & Autism (Tier 2)
DESCRIPTION:    \nCourse fee: £75+VAT\nThis course is eligible for funding re-imbursement via the Learning & Development Support Scheme (LDSS). More information can be found here\n\nOne day course at HCPA Campus\nThis course is suitable for staff providing direct care or making decisions across all adult care settings \nUnder the Health and Care Act 2022 all CQC-regulated providers must ensure their staff receive training in learning disability and autism that is appropriate to their role.\nThis is supported by the Oliver McGowan Code of Practice\, which sets out how to meet this legal duty. \n\nThis applies to all services\nEven if your service does not currently support autistic people or people with a learning disability\, this requirement still applies.\nPeople with learning disabilities and autistic people may use a wide range of services\, including general\, older people’s\, and non-specialist settings. In some cases\, individuals may not have a formal diagnosis or may not have disclosed it. Therefore\, all staff must be equipped with the knowledge and skills to provide safe\, respectful\, and inclusive care. \nThe Oliver McGowan Mandatory Training is the government’s preferred training of meaningful training for health and social care staff on learning disabilities and autism.\nThe Tier 2 course is co-delivered by trainers with lived experience and covers: \n\nAvoiding diagnostic overshadowing\nCommon co-occurring conditions\nLegal frameworks (Mental Capacity Act\, Human Rights Act\, Autism Act\, Equality Act)\nReasonable adjustments\, including hospital passports\nAppropriate DNACPR application\nProfessional culture\, biases\, and their impact\nAccessible communication\nUnderstanding and responding to individuals and families\nAsk Listen Do framework\nLearning from LeDeR\n\nPrior to attending\, delegates must have completed the e-learning module which can be found here\nPlease note this is managed on the national platform “e-learning for healthcare” and is not managed by HCPA. You will need to have an account or register for one. Guidance and support can be found here \nSome content may be sensitive or distressing. If impacted\, please discuss this with your employer and seek appropriate support.\nWatch this powerful animation about The Oliver McGowan Mandatory Training \n*Please note: This course carries a course fee regardless of membership.\nDelegates who are late may not be admitted into the training. No refund will be offered.\nSee Terms & Conditions for cancellation periods.
URL:https://www.hcpa.info/courses/the-oliver-mcgowan-mandatory-training-on-learning-disability-autism-tier-2-31/
LOCATION:HCPA\, Mundells Campus\, Mundells\, Welwyn Garden City\, AL7 1FT
CATEGORIES:Care topics,Oliver McGowan
END:VEVENT
BEGIN:VEVENT
DTSTART;TZID=Europe/London:20260422T100000
DTEND;TZID=Europe/London:20260422T120000
DTSTAMP:20260422T021818
CREATED:20260306T152808Z
LAST-MODIFIED:20260311T105505Z
UID:10002326-1776852000-1776859200@www.hcpa.info
SUMMARY:Internal Training - Training Management...
DESCRIPTION:2 hour virtual session\nThis course is for HCPA Staff only. \nThis is a new course we’re piloting ahead of its full launch to providers. It introduces the core principles of training planning within care organisations and offers practical guidance on using the Provider Portal. \nThe session is designed to help teams organise\, track\, and manage training more effectively\, ensuring compliance and supporting workforce development. \n*Please note: As per our T&C’s\, this course carries a fee in the event of non-attendance\, non-completion or late cancellation.\nDelegates who are late may not be admitted into the training and a cost incurred.
URL:https://www.hcpa.info/courses/internal-training-training-management/
LOCATION:Virtual Classroom
CATEGORIES:HCPA Internal sessions
END:VEVENT
BEGIN:VEVENT
DTSTART;TZID=Europe/London:20260422T100000
DTEND;TZID=Europe/London:20260422T160000
DTSTAMP:20260422T021818
CREATED:20260223T101250Z
LAST-MODIFIED:20260323T232150Z
UID:10002257-1776852000-1776873600@www.hcpa.info
SUMMARY:Moving & Assisting
DESCRIPTION:  \n  \nCourse fee: HCPA Standard Member: Fully funded*\nAssociate/Network Member: £37.50+VAT | Non-member: £75+VAT \nOne day course at HCPA Campus \n*This course involves physical activity. Delegates must be fit and able to use moving and assisting equipment*\nThis course is suitable for anybody whose role involves Moving & Assisting activities within a social care setting\, such as those working in a care home\, nursing home\, or home care setting. \nIf you work in health and social care\, it is likely you will have to move or assist people as part of your role. Often this will involve the use of specialist equipment such as sliding aids\, hoists\, slings and handling belts. It is important that you carry out Moving & Assisting activities safely and correctly to prevent the risk of injuries to yourself or others. \nThe course will provide the information and guidance needed to move and position individuals safely\, in a way that promotes their independence\, dignity and functional mobility. It also teaches about the importance of risk assessments and the potential hazards involved\, along with the key legislation relevant to Moving & Assisting. \nLearning objectives:\n• Outline current legislation\, national guidelines\, policies\, procedures\, and protocols in relation to moving and positioning individuals\n• Explain anatomy of the spine and types of Injuries and identify how to look after your own back\n• Describe how to minimise risk before moving and positioning individuals\n• Identify when to seek advice and/or assistance from others when moving and positioning an individual\n• Outline how to move and position an individual \n*Please note: As per our T&C’s\, this course carries a fee in the event of non-attendance\, non-completion or late cancellation.\nBookings of more than two delegates per site may be amended to allow access to all member organisations at the discretion of HCPA.\nDelegates who are late may not be admitted into the training and a cost incurred
URL:https://www.hcpa.info/courses/moving-assisting-19/
LOCATION:HCPA\, Mundells Campus\, Mundells\, Welwyn Garden City\, AL7 1FT
CATEGORIES:Moving & Assisting
END:VEVENT
BEGIN:VEVENT
DTSTART;TZID=Europe/London:20260422T100000
DTEND;TZID=Europe/London:20260422T160000
DTSTAMP:20260422T021818
CREATED:20260224T151512Z
LAST-MODIFIED:20260421T215715Z
UID:10002267-1776852000-1776873600@www.hcpa.info
SUMMARY:Care Induction
DESCRIPTION:  \n  \nCourse fee: HCPA Standard Member: Fully Funded*\nAssociate/Network Member: £375+VAT | Non-member: £375+VAT\nFive day course at HCPA Campus\nAll sessions must be attended (T&C’s apply)\nDay 1: 22/04/2026\nDay 2: 23/04/2026\nDay 3: 24/04/2026\nDay 4: 27/04/2026\nDay 5: 28/04/2026\nWelcome to the Care Induction course\, a comprehensive five-day programme designed for individuals embarking on a career in care. \nThis course aims to equip those new to working in care with the foundational knowledge and skills needed to excel as a care professional. Each day focuses on crucial aspects of care\, ensuring you are well-prepared to deliver high-quality\, person-centred support. \nContent:\nDay 1: Understanding Your Role and Person-Centred Care\nRole of a Care Professional\, Duty of Care and Candour\n• Gain insight into the responsibilities and expectations of a care professional.\n• Learn about the principles of duty of care and candour\, and how they apply in everyday practice.\nUnderstanding Person-Centred Care (Hertfordshire Connected Lives)\n• Explore the concepts of person-centred care and how they enhance the quality of life for individuals.\n• Understand the Hertfordshire Connected Lives approach and its application in care settings. \nDay 2: Communication\, Information Handling\, and Safeguarding\nUnderstanding Communication and Safe Information Handling\n• Develop effective communication skills essential for interacting with individuals in care.\n• Learn the importance of safe information handling and confidentiality.\nSafeguarding Awareness\n• Understand the principles of safeguarding and the role of a care professional in protecting vulnerable individuals.\n• Recognize the signs of abuse and neglect and know how to report concerns appropriately. \nDay 3: Health\, Safety\, Wellbeing\, and Inclusion\nUnderstanding Health\, Safety & Wellbeing\n• Learn about the health\, safety\, and wellbeing practices that ensure a safe environment for both care professionals and individuals in care.\n• Understand risk assessment and management in care settings.\nMaintaining Dignity in Care\, Equality\, Diversity\, and Inclusion\n• Discover the importance of maintaining dignity and respect in care.\n• Explore concepts of equality\, diversity\, and inclusion\, and how to promote these values in your practice. \nDay 4: Mental Health\, Dementia\, and Learning Disabilities\nUnderstanding Mental Health\, Dementia\, Learning Disabilities\, Autistic Spectrum Disorder\n• Gain knowledge about mental health conditions\, dementia\, learning disabilities\, and Autistic Spectrum Disorder.\n• Learn strategies for providing effective support to individuals with these conditions. \nDay 5: Nutrition\, Oral Health\, and Cultural Awareness\nUnderstanding Fluid\, Nutrition\, and Oral Health\n• Understand the importance of proper nutrition\, hydration\, and oral health in overall wellbeing.\n• Learn how to support individuals in maintaining these aspects of health.\nCultural Awareness\n• Develop awareness of cultural differences and their impact on care.\n• Learn to provide culturally sensitive care that respects and values diversity. \n*Please note: As per our T&C’s\, this course carries a fee in the event of non-attendance\, non-completion or late cancellation.\nBookings of more than two delegates per site may be amended to allow access to all member organisations at the discretion of HCPA.\nDelegates who are late may not be admitted into the training and a cost incurred
URL:https://www.hcpa.info/courses/care-induction-7/
LOCATION:HCPA\, Mundells Campus\, Mundells\, Welwyn Garden City\, AL7 1FT
CATEGORIES:Care Induction
END:VEVENT
BEGIN:VEVENT
DTSTART;TZID=Europe/London:20260422T100000
DTEND;TZID=Europe/London:20260422T160000
DTSTAMP:20260422T021818
CREATED:20260303T164038Z
LAST-MODIFIED:20260421T215616Z
UID:10002306-1776852000-1776873600@www.hcpa.info
SUMMARY:Understanding Performance Management
DESCRIPTION:    \nCourse fee: £112.50 +VAT\nThis course is eligible for funding re-imbursement via the Learning & Development Support Scheme (LDSS). Read more about the Department of Health and Social Care (DHSC) Learning and Development Support Scheme here! \nOne day course via Virtual Classroom\nThis Skills for Care CPD module is designed for care professionals who want to strengthen their performance management skills. You’ll learn how to set goals\, give feedback\, track progress\, and understand the full performance management cycle.\nLed by industry experts\, the training includes interactive sessions and peer learning—offering practical tools\, techniques\, and strategies to support everyday management. \nWhether you’re a care manager or aspiring leader\, this course will help you.\nLearning Outcomes\n• Understanding the performance management cycle including processes for managing different types of performance\n• Understanding of disciplinary and grievance\, causes of poor performance and how to minimise them\n• Awareness of strategies to improve performance\n• Awareness of managing and retaining high performing staff\n• Understand how to give feedback and manage difficult conversations\n• Awareness of cultures that encourage confidence\, responsibility and accountability\n• Understanding effective role modelling\, coaching and mentoring. \nJoin us to build your skills\, enhance your leadership\, and boost your team’s performance. \nAs HCPA hold the Quality Assured Learning Service (QACLS) benchmark\, you can confidently book this programme\, knowing the training is of an exceptionally high standard and will provide you with the vital skills needed to successfully lead.\n \nThis course is eligible for Adult Social Care providers to claim 100% cost reimbursement through the Learning and Development Support Scheme (LDSS)*. \n*Please note: As per our T&C’s\, this course carries a fee. Please refer to the T&C’s  in the event of non-attendance\, non-completion or late cancellation.\nClaims can only be made by the care provider\, individuals are not eligible to claim directly.
URL:https://www.hcpa.info/courses/understanding-performance-management-4/
LOCATION:Virtual Classroom
CATEGORIES:Care Leadership Courses,Leadership & Management Skills
END:VEVENT
END:VCALENDAR