BEGIN:VCALENDAR
VERSION:2.0
PRODID:-//HCPA - ECPv6.15.12.1//NONSGML v1.0//EN
CALSCALE:GREGORIAN
METHOD:PUBLISH
X-WR-CALNAME:HCPA
X-ORIGINAL-URL:https://www.hcpa.info
X-WR-CALDESC:Events for HCPA
REFRESH-INTERVAL;VALUE=DURATION:PT1H
X-Robots-Tag:noindex
X-PUBLISHED-TTL:PT1H
BEGIN:VTIMEZONE
TZID:Europe/London
BEGIN:DAYLIGHT
TZOFFSETFROM:+0000
TZOFFSETTO:+0100
TZNAME:BST
DTSTART:20250330T010000
END:DAYLIGHT
BEGIN:STANDARD
TZOFFSETFROM:+0100
TZOFFSETTO:+0000
TZNAME:GMT
DTSTART:20251026T010000
END:STANDARD
BEGIN:DAYLIGHT
TZOFFSETFROM:+0000
TZOFFSETTO:+0100
TZNAME:BST
DTSTART:20260329T010000
END:DAYLIGHT
BEGIN:STANDARD
TZOFFSETFROM:+0100
TZOFFSETTO:+0000
TZNAME:GMT
DTSTART:20261025T010000
END:STANDARD
BEGIN:DAYLIGHT
TZOFFSETFROM:+0000
TZOFFSETTO:+0100
TZNAME:BST
DTSTART:20270328T010000
END:DAYLIGHT
BEGIN:STANDARD
TZOFFSETFROM:+0100
TZOFFSETTO:+0000
TZNAME:GMT
DTSTART:20271031T010000
END:STANDARD
END:VTIMEZONE
BEGIN:VEVENT
DTSTART;TZID=Europe/London:20260420T100000
DTEND;TZID=Europe/London:20260420T160000
DTSTAMP:20260420T013436
CREATED:20260303T160659Z
LAST-MODIFIED:20260417T175522Z
UID:10002303-1776679200-1776700800@www.hcpa.info
SUMMARY:Dementia - Person-centred Support Care Strategies
DESCRIPTION:  \n  \nCourse fee: HCPA Standard Member: Fully funded*\nAssociate/Network Member: £37.50+VAT | Non-member: £75+VAT \nOne day course at HCPA \nEntry requirements: Prior to attending this course\, delegates must have completed the pre-learning module Introduction to Prevalence and Types of Dementia \nThis course provides all staff with essential knowledge and skills for supporting individuals with dementia. Participants recap material from pre-learning regarding the types and prevalence of dementia and engage in practical care strategies focusing on effective communication\, care planning\, incorporating life stories\, and achieving positive outcomes. The session includes an introduction to Positive Behavioural Support (PBS) and highlights the importance of using the dementia checklist in daily practice. \nLearning objectives:\n• Describe the critical role of person-centred support and the principles that underpin good practice.\n• Explain the significance of personalisation tools\, advanced care planning\, and lifework history in enabling people living with Dementia to live well.\n• Understand the fundamentals of Positive Behaviour Support (PBS) and how to implement behaviour support interventions for people living with Dementia\n• Understand the importance of effective communication in Dementia care and recognise the relationship between communication\, interaction\, and behaviour.\n• Describe the value of effective collaboration and involvement of families\, support networks\, and community services in the care and support of people living with Dementia. \n*Please note: As per our T&C’s\, this course carries a fee in the event of non-attendance\, non-completion or late cancellation.\nBookings of more than two delegates per site may be amended to allow access to all member organisations at the discretion of HCPA.\nDelegates who are late may not be admitted into the training and a cost incurred
URL:https://www.hcpa.info/courses/dementia-person-centred-support-care-strategies-4/
LOCATION:HCPA\, Mundells Campus\, Mundells\, Welwyn Garden City\, AL7 1FT
CATEGORIES:Care topics
END:VEVENT
BEGIN:VEVENT
DTSTART;TZID=Europe/London:20260420T100000
DTEND;TZID=Europe/London:20260420T160000
DTSTAMP:20260420T013436
CREATED:20260303T160928Z
LAST-MODIFIED:20260323T231947Z
UID:10002304-1776679200-1776700800@www.hcpa.info
SUMMARY:Supervision & Appraisal
DESCRIPTION:  \n  \nCourse fee: HCPA Standard Member: Fully funded*\nAssociate/Network Member: £37.50+VAT | Non-member: £75+VAT \nOne day course at HCPA Campus\nSupervision is a legal and regulatory requirement of adult care settings. This course discusses the purpose and processes of effective supervision\, together with performance management and methods of managing and addressing conflict. Delegates will learn about supporting others within an organisation’s cycle of performance management\, and how to maximise support for staff members. Legislation\, codes of practice\, and policies and procedures will be explored alongside how they influence the supervision process. \nLearning objectives:\n• Understand the purpose of supervision\n• Understand how the principles of supervision can be used to inform performance management\n• Understand how to support individuals through supervision\n• Understand how supervision supports performance\n• Understand how to identify skill gaps in knowledge and confidence \n*Please note: As per our T&C’s\, this course carries a fee in the event of non-attendance\, non-completion or late cancellation.\nBookings of more than two delegates per site may be amended to allow access to all member organisations at the discretion of HCPA.\nDelegates who are late may not be admitted into the training and a cost incurred.
URL:https://www.hcpa.info/courses/supervision-appraisal-3/
LOCATION:HCPA\, Mundells Campus\, Mundells\, Welwyn Garden City\, AL7 1FT
CATEGORIES:Care Leadership Courses
END:VEVENT
BEGIN:VEVENT
DTSTART;TZID=Europe/London:20260420T100000
DTEND;TZID=Europe/London:20260420T160000
DTSTAMP:20260420T013436
CREATED:20260318T153116Z
LAST-MODIFIED:20260323T232101Z
UID:10002369-1776679200-1776700800@www.hcpa.info
SUMMARY:Moving & Assisting
DESCRIPTION:  \n  \nCourse fee: HCPA Standard Member: Fully funded*\nAssociate/Network Member: £37.50+VAT | Non-member: £75+VAT \nOne day course at HCPA Campus \n*This course involves physical activity. Delegates must be fit and able to use moving and assisting equipment*\nThis course is suitable for anybody whose role involves Moving & Assisting activities within a social care setting\, such as those working in a care home\, nursing home\, or home care setting. \nIf you work in health and social care\, it is likely you will have to move or assist people as part of your role. Often this will involve the use of specialist equipment such as sliding aids\, hoists\, slings and handling belts. It is important that you carry out Moving & Assisting activities safely and correctly to prevent the risk of injuries to yourself or others. \nThe course will provide the information and guidance needed to move and position individuals safely\, in a way that promotes their independence\, dignity and functional mobility. It also teaches about the importance of risk assessments and the potential hazards involved\, along with the key legislation relevant to Moving & Assisting. \nLearning objectives:\n• Outline current legislation\, national guidelines\, policies\, procedures\, and protocols in relation to moving and positioning individuals\n• Explain anatomy of the spine and types of Injuries and identify how to look after your own back\n• Describe how to minimise risk before moving and positioning individuals\n• Identify when to seek advice and/or assistance from others when moving and positioning an individual\n• Outline how to move and position an individual \n*Please note: As per our T&C’s\, this course carries a fee in the event of non-attendance\, non-completion or late cancellation.\nBookings of more than two delegates per site may be amended to allow access to all member organisations at the discretion of HCPA.\nDelegates who are late may not be admitted into the training and a cost incurred
URL:https://www.hcpa.info/courses/moving-assisting-29/
LOCATION:HCPA\, Mundells Campus\, Mundells\, Welwyn Garden City\, AL7 1FT
CATEGORIES:Moving & Assisting
END:VEVENT
END:VCALENDAR