BEGIN:VCALENDAR
VERSION:2.0
PRODID:-//HCPA - ECPv6.15.12.1//NONSGML v1.0//EN
CALSCALE:GREGORIAN
METHOD:PUBLISH
X-ORIGINAL-URL:https://www.hcpa.info
X-WR-CALDESC:Events for HCPA
REFRESH-INTERVAL;VALUE=DURATION:PT1H
X-Robots-Tag:noindex
X-PUBLISHED-TTL:PT1H
BEGIN:VTIMEZONE
TZID:Europe/London
BEGIN:DAYLIGHT
TZOFFSETFROM:+0000
TZOFFSETTO:+0100
TZNAME:BST
DTSTART:20250330T010000
END:DAYLIGHT
BEGIN:STANDARD
TZOFFSETFROM:+0100
TZOFFSETTO:+0000
TZNAME:GMT
DTSTART:20251026T010000
END:STANDARD
BEGIN:DAYLIGHT
TZOFFSETFROM:+0000
TZOFFSETTO:+0100
TZNAME:BST
DTSTART:20260329T010000
END:DAYLIGHT
BEGIN:STANDARD
TZOFFSETFROM:+0100
TZOFFSETTO:+0000
TZNAME:GMT
DTSTART:20261025T010000
END:STANDARD
BEGIN:DAYLIGHT
TZOFFSETFROM:+0000
TZOFFSETTO:+0100
TZNAME:BST
DTSTART:20270328T010000
END:DAYLIGHT
BEGIN:STANDARD
TZOFFSETFROM:+0100
TZOFFSETTO:+0000
TZNAME:GMT
DTSTART:20271031T010000
END:STANDARD
END:VTIMEZONE
BEGIN:VEVENT
DTSTART;TZID=Europe/London:20260306T140000
DTEND;TZID=Europe/London:20260306T163000
DTSTAMP:20260422T105614
CREATED:20260122T154253Z
LAST-MODIFIED:20260122T154253Z
UID:10002231-1772805600-1772814600@www.hcpa.info
SUMMARY:Depression care pathway
DESCRIPTION:Course fee: HCPA Full Member: Fully funded*\nAssociate Member: £25+VAT | ACE Member: £33+VAT | Non-member: £50+VAT  \nHalf day course via Zoom \nDepression has historically been a long-misunderstood condition\, with there being a significant variance in the way clinicians have diagnosed and treated its symptoms. This has led to\, in many respects an inefficient treatment offer to patients. The NHS’ new Depression Care Pathway seeks to identify\, treat and review cases of depression more thoroughly. \nThis course provides both an overview of depressions to remind learners of the overall breadth of the condition\, types\, symptoms\, frequency and severity and touches upon some key areas of the new pathway. \nDelegates will understand the difference between a low mood and depression\, new severity classifications\, risk factor that make some individuals more prone\, and consider a very broad range of symptoms. \nDelegates will also understand how stigma can play a role in both identifying and treating depression and understand what is meant by treatment resistant depression. \nComparisons will be draw between the (historical) stepped care approach and the new matched care model\, including treatment options available depending upon depression severity classification. Delegates will understand the new care pathway targets and how these relate to their work\, including touching upon the pathway itself. Delegates will understand the PHQ2 and PHQ9 assessment tools\, and will explore relapse prevention techniques. \nWhilst the pathway is for clinicians to follow\, it is important for delegates to be aware of\, as this will help to inform their practice and support individuals they work with through the process and treatment paths available to the individual. \nLearning objectives:\n• Understand prevalence of depression\, and its difference from low mood\n• Types of depression and new severity classification.\n• Understand causes\, symptoms and stigma associated with depression.\n• Understand treatment resistant depression and Identify relevant NICE targets.\n• Understand matched care model\, and treatment options.\n• Understand the PHQ2 tool\, how it can be used and tips for implementing.\n• Identify ways to promote relapse prevention.\n \n*Please note: As per our T&C’s\, this course carries a fee in the event of non-attendance\, non-completion or late cancellation.\nBookings of more than two delegates per site may be amended to allow access to all member organisations at the discretion of HCPA.\nDelegates who are late may not be admitted into the training and a cost incurred
URL:https://www.hcpa.info/courses/depression-care-pathway-2/
LOCATION:Virtual Classroom
CATEGORIES:Care topics
END:VEVENT
END:VCALENDAR