BEGIN:VCALENDAR
VERSION:2.0
PRODID:-//HCPA - ECPv6.15.12.1//NONSGML v1.0//EN
CALSCALE:GREGORIAN
METHOD:PUBLISH
X-WR-CALNAME:HCPA
X-ORIGINAL-URL:https://www.hcpa.info
X-WR-CALDESC:Events for HCPA
REFRESH-INTERVAL;VALUE=DURATION:PT1H
X-Robots-Tag:noindex
X-PUBLISHED-TTL:PT1H
BEGIN:VTIMEZONE
TZID:Europe/London
BEGIN:DAYLIGHT
TZOFFSETFROM:+0000
TZOFFSETTO:+0100
TZNAME:BST
DTSTART:20250330T010000
END:DAYLIGHT
BEGIN:STANDARD
TZOFFSETFROM:+0100
TZOFFSETTO:+0000
TZNAME:GMT
DTSTART:20251026T010000
END:STANDARD
BEGIN:DAYLIGHT
TZOFFSETFROM:+0000
TZOFFSETTO:+0100
TZNAME:BST
DTSTART:20260329T010000
END:DAYLIGHT
BEGIN:STANDARD
TZOFFSETFROM:+0100
TZOFFSETTO:+0000
TZNAME:GMT
DTSTART:20261025T010000
END:STANDARD
BEGIN:DAYLIGHT
TZOFFSETFROM:+0000
TZOFFSETTO:+0100
TZNAME:BST
DTSTART:20270328T010000
END:DAYLIGHT
BEGIN:STANDARD
TZOFFSETFROM:+0100
TZOFFSETTO:+0000
TZNAME:GMT
DTSTART:20271031T010000
END:STANDARD
END:VTIMEZONE
BEGIN:VEVENT
DTSTART;TZID=Europe/London:20260219T140000
DTEND;TZID=Europe/London:20260219T163000
DTSTAMP:20260420T140253
CREATED:20251114T122412Z
LAST-MODIFIED:20251216T104742Z
UID:10002136-1771509600-1771518600@www.hcpa.info
SUMMARY:Crisis Recovery and Wellness Plans
DESCRIPTION:Course fee: HCPA Full Member: Fully funded*\nAssociate Member: £25+VAT | ACE Member: £33+VAT | Non-member: £50+VAT  \nHalf day course via Zoom \nLearners will have the opportunity to discuss both within breakout rooms and as part of a wider group the impact a crisis can have upon a person’s mental\, emotional and physical needs\, including the impact on upon “External structures” E.G. family\, work\, finances etc. \nLearners will explore what is useful for a person in their recovery and how self-management\, being responsible for their own recovery journey. Learner will consider external sources of support both formal and informal and why they are also key to becoming well and staying well. \nLearners will consider the difference between a lapse in a person’s recovery and a relapse\, and how individual perspectives on either can cause confusion or distress. Learners will then explore signs that could emerge across a range of domains\, E.G. mental\, emotional etc. \nLearners will understand that wellness plans are not a plan for them to complete\, they are the responsibility of the person who has mental health difficulties/in recovery. Learners will look at the 5 principles of wellness plans and consider how\, through individual support\, group support etc\, individuals can be helped\, where needed\, to capture important information about their own crisis\, their own recovery and what helps and hinders their continued journey. \nLearning objectives:\n• To understand what is meant by the term “Crisis”.\n• To consider how a mental health crisis may look and feel.\n• Consider what is meant by the term recovery.\n• Consider the differences between personal and clinical recovery and how these interact with one another.\n• Look at the importance of self-management and support networks in recovery.\n• Discuss the differences between lapse and relapse and what this can mean for recovery.\n• A step-by step guide to how wellness plans are completed.\n \n*Please note: As per our T&C’s\, this course carries a fee in the event of non-attendance\, non-completion or late cancellation.\nBookings of more than two delegates per site may be amended to allow access to all member organisations at the discretion of HCPA.\nDelegates who are late may not be admitted into the training and a cost incurred
URL:https://www.hcpa.info/courses/crisis-recovery-and-wellness-plans-2/
LOCATION:Virtual Classroom
CATEGORIES:Care topics
END:VEVENT
END:VCALENDAR