BEGIN:VCALENDAR
VERSION:2.0
PRODID:-//HCPA - ECPv6.15.12.1//NONSGML v1.0//EN
CALSCALE:GREGORIAN
METHOD:PUBLISH
X-WR-CALNAME:HCPA
X-ORIGINAL-URL:https://www.hcpa.info
X-WR-CALDESC:Events for HCPA
REFRESH-INTERVAL;VALUE=DURATION:PT1H
X-Robots-Tag:noindex
X-PUBLISHED-TTL:PT1H
BEGIN:VTIMEZONE
TZID:Europe/London
BEGIN:DAYLIGHT
TZOFFSETFROM:+0000
TZOFFSETTO:+0100
TZNAME:BST
DTSTART:20250330T010000
END:DAYLIGHT
BEGIN:STANDARD
TZOFFSETFROM:+0100
TZOFFSETTO:+0000
TZNAME:GMT
DTSTART:20251026T010000
END:STANDARD
BEGIN:DAYLIGHT
TZOFFSETFROM:+0000
TZOFFSETTO:+0100
TZNAME:BST
DTSTART:20260329T010000
END:DAYLIGHT
BEGIN:STANDARD
TZOFFSETFROM:+0100
TZOFFSETTO:+0000
TZNAME:GMT
DTSTART:20261025T010000
END:STANDARD
BEGIN:DAYLIGHT
TZOFFSETFROM:+0000
TZOFFSETTO:+0100
TZNAME:BST
DTSTART:20270328T010000
END:DAYLIGHT
BEGIN:STANDARD
TZOFFSETFROM:+0100
TZOFFSETTO:+0000
TZNAME:GMT
DTSTART:20271031T010000
END:STANDARD
END:VTIMEZONE
BEGIN:VEVENT
DTSTART;TZID=Europe/London:20260206T100000
DTEND;TZID=Europe/London:20260206T130000
DTSTAMP:20260420T140255
CREATED:20250904T133400Z
LAST-MODIFIED:20251216T103708Z
UID:10002001-1770372000-1770382800@www.hcpa.info
SUMMARY:Skin Integrity and Pressure Ulcer Prevention in Homecare
DESCRIPTION:  \n  \nCourse fee: HCPA Full Member: Fully funded*\nAssociate Member: £25+VAT | ACE Member: £33+VAT | Non-member: £50+VAT \nHalf day webinar via Zoom \nThis course will give the learner a broad overview of the importance of maintaining good skin integrity for clients in the homecare setting. Prevention of skin damage\, identification of skin breakdown and implementation of strategies to care for vulnerable skin. \nLearning objectives:\n• Understand your role in maintaining skin integrity\n• Gain basic knowledge of Anatomy & Physiology of the skin\n• Learn about pressure ulcer prevention strategies using ‘Great Skin’ resources applying to surface\, skin inspection\, keeping residents moving\, continence management and good nutrition\n• Gain skills and knowledge in identification of pressure damage and responding to skin breakdown\n• Understand how moisture can affect skin integrity and how to implement strategies for prevention of incontinence associated skin damage\n• Develop your role within homecare in prevention and identification of skin tears and conditions affecting the lower limb\n• Understand the signs of early recognition of infection\, the importance of timely escalation \nCLICK HERE TO REGISTER\n*Please note: As per our T&C’s\, this course carries a fee in the event of non-attendance\, non-completion or late cancellation.\nBookings of more than two delegates per site may be amended to allow access to all member organisations at the discretion of HCPA.\nDelegates who are late may not be admitted into the training and a cost incurred
URL:https://www.hcpa.info/courses/skin-integrity-and-pressure-ulcer-prevention-in-homecare-online-learning-session-4/
LOCATION:Virtual Classroom
CATEGORIES:Care topics
END:VEVENT
END:VCALENDAR