BEGIN:VCALENDAR
VERSION:2.0
PRODID:-//HCPA - ECPv6.15.12.1//NONSGML v1.0//EN
CALSCALE:GREGORIAN
METHOD:PUBLISH
X-WR-CALNAME:HCPA
X-ORIGINAL-URL:https://www.hcpa.info
X-WR-CALDESC:Events for HCPA
REFRESH-INTERVAL;VALUE=DURATION:PT1H
X-Robots-Tag:noindex
X-PUBLISHED-TTL:PT1H
BEGIN:VTIMEZONE
TZID:Europe/London
BEGIN:DAYLIGHT
TZOFFSETFROM:+0000
TZOFFSETTO:+0100
TZNAME:BST
DTSTART:20240331T010000
END:DAYLIGHT
BEGIN:STANDARD
TZOFFSETFROM:+0100
TZOFFSETTO:+0000
TZNAME:GMT
DTSTART:20241027T010000
END:STANDARD
BEGIN:DAYLIGHT
TZOFFSETFROM:+0000
TZOFFSETTO:+0100
TZNAME:BST
DTSTART:20250330T010000
END:DAYLIGHT
BEGIN:STANDARD
TZOFFSETFROM:+0100
TZOFFSETTO:+0000
TZNAME:GMT
DTSTART:20251026T010000
END:STANDARD
BEGIN:DAYLIGHT
TZOFFSETFROM:+0000
TZOFFSETTO:+0100
TZNAME:BST
DTSTART:20260329T010000
END:DAYLIGHT
BEGIN:STANDARD
TZOFFSETFROM:+0100
TZOFFSETTO:+0000
TZNAME:GMT
DTSTART:20261025T010000
END:STANDARD
END:VTIMEZONE
BEGIN:VEVENT
DTSTART;TZID=Europe/London:20251204T100000
DTEND;TZID=Europe/London:20251204T160000
DTSTAMP:20260420T170022
CREATED:20250818T075716Z
LAST-MODIFIED:20251203T171032Z
UID:10001975-1764842400-1764864000@www.hcpa.info
SUMMARY:Therapeutic and Cultural Diets and Religious Dietary Restrictions
DESCRIPTION:  \n  \nCourse fee: HCPA Full Member: Fully funded* | ACE Member: £100+VAT | Associate Member: £112+VAT | Non-member: £150+VAT\nTwo day course at HCPA Campus\nDay 1: 04/12/2025\nDay 2: 05/12/2025\nThis course will provide staff with additional knowledge about common medical conditions that are treated or managed by with a special diet. We will cover conditions such as diabetes\, coeliac disease\, food allergies and constipation to name a few. Caring for adults who are tube fed will also be included. In addition we will discuss different cultural diets and religious dietary laws. Menu evaluation and planning will be covered in order to explore how different dietary needs for medical\, cultural or religious reasons can be met. \nLearning objectives:\n• Describe the key principles of special diets advised for the treatment and management of diabetes\, coeliac disease\, constipation and other medical conditions identified.\n• Differentiate between Type 1 and Type 2 Diabetes\n• Take a person centred approach plan how additional menu planning can improve the meal provision and enjoyment for clients on special diets.\n• Recognise the emotional and psychological issues associated with restrictive diets\n• Explain the dietary restrictions of different religions and cultures \n*Please note: As per our T&C’s\, this course carries a fee in the event of non-attendance\, non-completion or late cancellation.\nBookings of more than two delegates per site may be amended to allow access to all member organisations at the discretion of HCPA.\nDelegates who are late may not be admitted into the training and a cost incurred
URL:https://www.hcpa.info/courses/therapeutic-and-cultural-diets-and-religious-dietary-restrictions/
LOCATION:HCPA\, Mundells Campus\, Mundells\, Welwyn Garden City\, AL7 1FT
CATEGORIES:Care topics,Prevention & Enablement
END:VEVENT
END:VCALENDAR