BEGIN:VCALENDAR
VERSION:2.0
PRODID:-//HCPA - ECPv6.15.12.1//NONSGML v1.0//EN
CALSCALE:GREGORIAN
METHOD:PUBLISH
X-ORIGINAL-URL:https://www.hcpa.info
X-WR-CALDESC:Events for HCPA
REFRESH-INTERVAL;VALUE=DURATION:PT1H
X-Robots-Tag:noindex
X-PUBLISHED-TTL:PT1H
BEGIN:VTIMEZONE
TZID:Europe/London
BEGIN:DAYLIGHT
TZOFFSETFROM:+0000
TZOFFSETTO:+0100
TZNAME:BST
DTSTART:20240331T010000
END:DAYLIGHT
BEGIN:STANDARD
TZOFFSETFROM:+0100
TZOFFSETTO:+0000
TZNAME:GMT
DTSTART:20241027T010000
END:STANDARD
BEGIN:DAYLIGHT
TZOFFSETFROM:+0000
TZOFFSETTO:+0100
TZNAME:BST
DTSTART:20250330T010000
END:DAYLIGHT
BEGIN:STANDARD
TZOFFSETFROM:+0100
TZOFFSETTO:+0000
TZNAME:GMT
DTSTART:20251026T010000
END:STANDARD
BEGIN:DAYLIGHT
TZOFFSETFROM:+0000
TZOFFSETTO:+0100
TZNAME:BST
DTSTART:20260329T010000
END:DAYLIGHT
BEGIN:STANDARD
TZOFFSETFROM:+0100
TZOFFSETTO:+0000
TZNAME:GMT
DTSTART:20261025T010000
END:STANDARD
END:VTIMEZONE
BEGIN:VEVENT
DTSTART;TZID=Europe/London:20251113T100000
DTEND;TZID=Europe/London:20251113T160000
DTSTAMP:20260420T182849
CREATED:20250730T125133Z
LAST-MODIFIED:20251024T113618Z
UID:10001921-1763028000-1763049600@www.hcpa.info
SUMMARY:Trauma Informed Approaches and becoming a trauma informed organisation
DESCRIPTION:Course fee: HCPA Full Member: Fully funded*\nAssociate Member: £56+VAT | ACE Member: £50+VAT | Non-member: £75+VAT  \nOne day course at HCPA \nDelegates will have an opportunity to understand the widespread nature of trauma within populations\, and how these can manifest on both an individual\, community\, cultural and national level. \nDelegates will learn how traumatic experiences\, especially those in childhood can fundamentally affect the way in which brain development occurs and will explore different types of trauma responses. They will also learn a key principle of being trauma informed is by looking beyond presenting behaviours and understand trauma informed approaches are not a specific intervention\, rather an organisational change to how people within all levels of an organisation are treated. This organisational change has multiple benefits to all people at all levels\, not just those who use services. \nDelegates will spend the second half of the day being shown a step-by-step guide on how to use the TrACE toolkit to; ready\, review\, monitor and evaluate their own trauma informed journey and have an opportunity to network with other delegates to support their individual journeys further. \nLearning objectives:\n• The prevalence of trauma\, especially Adverse Childhood Experiences (ACEs) within society.\n• That trauma is a natural response to abnormal experiences.\n• Consider types of experiences that can lead to trauma.\n• Explore the link between ACEs and poor adult health outcomes.\n• Understand key points of attachment theory.\n• Understand how trauma can change the flight and fight response and\, how this can subsequently cause a lifelong impact on a person’s behaviour.\n• Understand the 4 R’s of being trauma aware and the 6 principles of trauma approaches.\n• Step-by-step guide on how to become a trauma informed organisation using the 4 stages of the TrACE toolkit.\n \n*Please note: As per our T&C’s\, this course carries a fee in the event of non-attendance\, non-completion or late cancellation.\nBookings of more than two delegates per site may be amended to allow access to all member organisations at the discretion of HCPA.\nDelegates who are late may not be admitted into the training and a cost incurred
URL:https://www.hcpa.info/courses/trauma-informed-approaches-and-becoming-a-trauma-informed-organisation-with-hpft-cohort-02/
LOCATION:HCPA\, Mundells Campus\, Mundells\, Welwyn Garden City\, AL7 1FT
CATEGORIES:Care Leadership Courses,Care topics
END:VEVENT
END:VCALENDAR