BEGIN:VCALENDAR
VERSION:2.0
PRODID:-//HCPA - ECPv6.15.12.1//NONSGML v1.0//EN
CALSCALE:GREGORIAN
METHOD:PUBLISH
X-WR-CALNAME:HCPA
X-ORIGINAL-URL:https://www.hcpa.info
X-WR-CALDESC:Events for HCPA
REFRESH-INTERVAL;VALUE=DURATION:PT1H
X-Robots-Tag:noindex
X-PUBLISHED-TTL:PT1H
BEGIN:VTIMEZONE
TZID:Europe/London
BEGIN:DAYLIGHT
TZOFFSETFROM:+0000
TZOFFSETTO:+0100
TZNAME:BST
DTSTART:20240331T010000
END:DAYLIGHT
BEGIN:STANDARD
TZOFFSETFROM:+0100
TZOFFSETTO:+0000
TZNAME:GMT
DTSTART:20241027T010000
END:STANDARD
BEGIN:DAYLIGHT
TZOFFSETFROM:+0000
TZOFFSETTO:+0100
TZNAME:BST
DTSTART:20250330T010000
END:DAYLIGHT
BEGIN:STANDARD
TZOFFSETFROM:+0100
TZOFFSETTO:+0000
TZNAME:GMT
DTSTART:20251026T010000
END:STANDARD
BEGIN:DAYLIGHT
TZOFFSETFROM:+0000
TZOFFSETTO:+0100
TZNAME:BST
DTSTART:20260329T010000
END:DAYLIGHT
BEGIN:STANDARD
TZOFFSETFROM:+0100
TZOFFSETTO:+0000
TZNAME:GMT
DTSTART:20261025T010000
END:STANDARD
END:VTIMEZONE
BEGIN:VEVENT
DTSTART;TZID=Europe/London:20251030T100000
DTEND;TZID=Europe/London:20251030T120000
DTSTAMP:20260420T182641
CREATED:20250808T092308Z
LAST-MODIFIED:20251009T210559Z
UID:10001951-1761818400-1761825600@www.hcpa.info
SUMMARY:Eating Drinking and Ageing well
DESCRIPTION:  \n  \nCourse fee: Fully funded \n2 hour webinar via Zoom\n\nThis webinar will introduce you to the foundations of a healthy and balanced diet for your clients to support them in eating\, drinking and ageing well. It will cover the importance of enjoying food and mealtimes\, maintaining a healthy weight\, keeping hydrated and having a nutrient rich diet. \nLearning Objectives\n1. Recognise how taking pleasure in food and drink can help maintain health by eating well.\n2. Explain why maintaining your weight as you age is usually best for good health.\n3. Describe why it is important to keep active.\n4. Explain what a nutrient rich diet is and its importance as you age.\n5. Identify the role and importance of vitamin D for good health.\n6. Describe ways to ensure an adequate fluid intake to prevent dehydration. \nFULLY BOOKED\nEach attendee needs to be individually registered\nDelegates who are late may not be admitted into the session
URL:https://www.hcpa.info/courses/eating-drinking-and-ageing-well-online-learning-session-2/
LOCATION:Virtual Classroom
CATEGORIES:Care topics
END:VEVENT
BEGIN:VEVENT
DTSTART;TZID=Europe/London:20251030T133000
DTEND;TZID=Europe/London:20251030T153000
DTSTAMP:20260420T182641
CREATED:20250829T083453Z
LAST-MODIFIED:20251027T151449Z
UID:10001989-1761831000-1761838200@www.hcpa.info
SUMMARY:Lifting Cushions refresher...
DESCRIPTION:2 hour session at HCPA Campus \nHCPA and Winncare are running train the trainer refresher training on using falls lifting equipment. This train the trainer session will allow your staff to cascade information down to other members of staff. \nThis is an opportunity to:\n• Have a reminder of best practice in using the lifting cushions and ask Winncare any questions you may have.\n• An update of the new falls Management pathway in Care homes and the resources to go with this. This includes best practice documentation and falls risk assessments. \nPlease book onto this session\, or follow the links below for alternative sessions: \nWednesday 29th October 10:00-12:00\nThursday 30th October 10:00-12:00\nPlease book a maximum of 4 staff on each session. It will also be useful to send a night shift member of staff so they can cascade down to the rest of the team.
URL:https://www.hcpa.info/courses/lifting-cushions-refresher-4/
LOCATION:HCPA\, Mundells Campus\, Mundells\, Welwyn Garden City\, AL7 1FT
END:VEVENT
END:VCALENDAR