BEGIN:VCALENDAR
VERSION:2.0
PRODID:-//HCPA - ECPv6.15.12.1//NONSGML v1.0//EN
CALSCALE:GREGORIAN
METHOD:PUBLISH
X-WR-CALNAME:HCPA
X-ORIGINAL-URL:https://www.hcpa.info
X-WR-CALDESC:Events for HCPA
REFRESH-INTERVAL;VALUE=DURATION:PT1H
X-Robots-Tag:noindex
X-PUBLISHED-TTL:PT1H
BEGIN:VTIMEZONE
TZID:Europe/London
BEGIN:DAYLIGHT
TZOFFSETFROM:+0000
TZOFFSETTO:+0100
TZNAME:BST
DTSTART:20240331T010000
END:DAYLIGHT
BEGIN:STANDARD
TZOFFSETFROM:+0100
TZOFFSETTO:+0000
TZNAME:GMT
DTSTART:20241027T010000
END:STANDARD
BEGIN:DAYLIGHT
TZOFFSETFROM:+0000
TZOFFSETTO:+0100
TZNAME:BST
DTSTART:20250330T010000
END:DAYLIGHT
BEGIN:STANDARD
TZOFFSETFROM:+0100
TZOFFSETTO:+0000
TZNAME:GMT
DTSTART:20251026T010000
END:STANDARD
BEGIN:DAYLIGHT
TZOFFSETFROM:+0000
TZOFFSETTO:+0100
TZNAME:BST
DTSTART:20260329T010000
END:DAYLIGHT
BEGIN:STANDARD
TZOFFSETFROM:+0100
TZOFFSETTO:+0000
TZNAME:GMT
DTSTART:20261025T010000
END:STANDARD
END:VTIMEZONE
BEGIN:VEVENT
DTSTART;TZID=Europe/London:20250918T100000
DTEND;TZID=Europe/London:20250918T160000
DTSTAMP:20260420T212652
CREATED:20250617T141306Z
LAST-MODIFIED:20250617T141306Z
UID:10001791-1758189600-1758211200@www.hcpa.info
SUMMARY:Understanding Self-Management Skills
DESCRIPTION:    \nCourse fee: £112.50 +VAT\nAdult social care employers in England can claim up to £135 per staff member on completion of Lead to succeed. Read more about the Department of Health and Social Care (DHSC) Learning and Development Support Scheme here! \nOne day course via Virtual Classroom\nJoin this online CPD module from Skills for Care and develop the self-management skills you need to lead with confidence. Learn how to set goals\, prioritise tasks\, and stay motivated even when faced with challenges. \nWhether you are in a team leader\, senior or management role in care\, or just someone looking to improve yourself\, this course is perfect for you.\nThis Skills for Care CPD module will help managers to tackle isolation\, manage time\, build resilience and ensure wellbeing. It will look at techniques and tools which can support managers to self-manage and understand when and how behaviours can influence and impact on others. Unlike undertaking formal qualifications\, which can often feel like a solitary process\, this CPD module connects managers with their peers. Managers will understand how successful behaviours and practical strategies can support them in their day-to-day work. They’ll be challenged to put these into practice\, boosting their capacity to lead and manage effectively.\nThe module includes an emphasis on reflection\, helping managers to learn from their day-today experiences and think about how they can do things differently or get better at recognising what they do well. \nLearning Outcomes\n• Awareness of the impact of your own beliefs and values\n• Understanding self-management\, self-awareness and confidence\n• Understanding integrity and how actions & words influence others\n• Awareness of cultures that foster resilience\n• Understanding emotional intelligence\n• How to deal with pressure and stress using well-being strategies including delegation\n• Awareness of time management\, techniques and tools.\n\nAs HCPA hold the Quality Assured Learning Service (QACLS) benchmark\, you can confidently book this programme\, knowing the training is of an exceptionally high standard and will provide you with the vital skills needed to successfully lead.\n \nThis course is eligible for Adult Social Care providers to claim 100% cost reimbursement through the Learning and Development Support Scheme (LDSS)*. \n*Please note: As per our T&C’s\, this course carries a fee. Please refer to the T&C’s  in the event of non-attendance\, non-completion or late cancellation.\nClaims can only be made by the care provider\, individuals are not eligible to claim directly.
URL:https://www.hcpa.info/courses/understanding-self-management-skills/
LOCATION:Virtual Classroom
CATEGORIES:Care Leadership Courses,Leadership & Management Skills
END:VEVENT
END:VCALENDAR