BEGIN:VCALENDAR
VERSION:2.0
PRODID:-//HCPA - ECPv6.15.12.1//NONSGML v1.0//EN
CALSCALE:GREGORIAN
METHOD:PUBLISH
X-WR-CALNAME:HCPA
X-ORIGINAL-URL:https://www.hcpa.info
X-WR-CALDESC:Events for HCPA
REFRESH-INTERVAL;VALUE=DURATION:PT1H
X-Robots-Tag:noindex
X-PUBLISHED-TTL:PT1H
BEGIN:VTIMEZONE
TZID:Europe/London
BEGIN:DAYLIGHT
TZOFFSETFROM:+0000
TZOFFSETTO:+0100
TZNAME:BST
DTSTART:20240331T010000
END:DAYLIGHT
BEGIN:STANDARD
TZOFFSETFROM:+0100
TZOFFSETTO:+0000
TZNAME:GMT
DTSTART:20241027T010000
END:STANDARD
BEGIN:DAYLIGHT
TZOFFSETFROM:+0000
TZOFFSETTO:+0100
TZNAME:BST
DTSTART:20250330T010000
END:DAYLIGHT
BEGIN:STANDARD
TZOFFSETFROM:+0100
TZOFFSETTO:+0000
TZNAME:GMT
DTSTART:20251026T010000
END:STANDARD
BEGIN:DAYLIGHT
TZOFFSETFROM:+0000
TZOFFSETTO:+0100
TZNAME:BST
DTSTART:20260329T010000
END:DAYLIGHT
BEGIN:STANDARD
TZOFFSETFROM:+0100
TZOFFSETTO:+0000
TZNAME:GMT
DTSTART:20261025T010000
END:STANDARD
END:VTIMEZONE
BEGIN:VEVENT
DTSTART;TZID=Europe/London:20250911T091500
DTEND;TZID=Europe/London:20250911T150000
DTSTAMP:20260420T212653
CREATED:20250623T150025Z
LAST-MODIFIED:20250723T102439Z
UID:10001796-1757582100-1757602800@www.hcpa.info
SUMMARY:Internal Training - Safeguarding intermediate level...
DESCRIPTION:One day course at HCPA Campus\nThis course is for HCPA Staff only. \nLearning objectives:\n• Understand the impact of current legislation for the safeguarding of adults at risk of abuse or neglect\n• Understand how to respond to suspected or alleged abuse\n• Understand how to participate in inter-agency\, joint or integrated working in order to protect vulnerable adults\n• Understand how to support others in safeguarding\n• Understand how to follow HCPA Safeguarding procedure\n• Understand Capacity and Consent. \n*Please note: As per our T&C’s\, this course carries a fee in the event of non-attendance\, non-completion or late cancellation.\nDelegates who are late may not be admitted into the training and a cost incurred.
URL:https://www.hcpa.info/courses/internal-training-safeguarding-intermediate-level/
LOCATION:HCPA\, Mundells Campus\, Mundells\, Welwyn Garden City\, AL7 1FT
CATEGORIES:HCPA Internal sessions
END:VEVENT
BEGIN:VEVENT
DTSTART;TZID=Europe/London:20250911T100000
DTEND;TZID=Europe/London:20250911T113000
DTSTAMP:20260420T212653
CREATED:20250630T102525Z
LAST-MODIFIED:20250630T102621Z
UID:10001798-1757584800-1757590200@www.hcpa.info
SUMMARY:UTI and Catheter Care Webinar
DESCRIPTION:Course fee: HCPA Full Member: Fully funded* | ACE Member: Fully funded* | Associate Member: N/A | Non-member: N/A \n1.5 hour Webinar via MS Teams!\n \nJoin us for this essential webinar\, led by Hertfordshire and West Essex Integrated Care Board\, aimed at improving safety and quality of care by preventing urinary tract infections (UTIs) and enhancing catheter care across the system. \nThis session will highlight the role of catheter passports in supporting communication\, documentation\, and timely catheter reviews\, helping to reduce infection risk. We will also share local insights from the To Dip or Not To Dip (TDONTD) survey exploring current practice around urine dipstick use and identifying opportunities for safer UTI diagnosis. \nAttendees will gain valuable knowledge on effective UTI prevention strategies\, local healthcare associated infections (HCAIs) surveillance data from care settings and practical actions to help reduce catheter-associated urinary tract infections (CAUTIs) \nAttendees will learn about the risks\, prevention strategies\, roles\, and responsibilities and how the use of catheter passports can reduce infection rates through better documentation and timely catheter reviews. \nCLICK HERE TO REGISTER\n*Please note: As per our T&C’s\, this course carries a fee in the event of non-attendance\, non-completion or late cancellation.\nDelegates who are late may not be admitted into the training and a cost incurred
URL:https://www.hcpa.info/courses/uti-and-catheter-care-webinar/
LOCATION:Virtual Classroom
CATEGORIES:Events, Forums & Seminars
END:VEVENT
BEGIN:VEVENT
DTSTART;TZID=Europe/London:20250911T100000
DTEND;TZID=Europe/London:20250911T160000
DTSTAMP:20260420T212653
CREATED:20250730T124717Z
LAST-MODIFIED:20250730T124736Z
UID:10001920-1757584800-1757606400@www.hcpa.info
SUMMARY:Trauma Informed Approaches and becoming a trauma informed organisation - with HPFT
DESCRIPTION:Course fee: HCPA Full Member: Fully funded*\nAssociate Member: £56+VAT | ACE Member: £50+VAT | Non-member: £75+VAT  \nOne day course at HCPA \nDelegates will have an opportunity to understand the widespread nature of trauma within populations\, and how these can manifest on both an individual\, community\, cultural and national level. \nDelegates will learn how traumatic experiences\, especially those in childhood can fundamentally affect the way in which brain development occurs and will explore different types of trauma responses. They will also learn a key principle of being trauma informed is by looking beyond presenting behaviours and understand trauma informed approaches are not a specific intervention\, rather an organisational change to how people within all levels of an organisation are treated. This organisational change has multiple benefits to all people at all levels\, not just those who use services. \nDelegates will spend the second half of the day being shown a step-by-step guide on how to use the TrACE toolkit to; ready\, review\, monitor and evaluate their own trauma informed journey and have an opportunity to network with other delegates to support their individual journeys further. \nLearning objectives:\n• The prevalence of trauma\, especially Adverse Childhood Experiences (ACEs) within society.\n• That trauma is a natural response to abnormal experiences.\n• Consider types of experiences that can lead to trauma.\n• Explore the link between ACEs and poor adult health outcomes.\n• Understand key points of attachment theory.\n• Understand how trauma can change the flight and fight response and\, how this can subsequently cause a lifelong impact on a person’s behaviour.\n• Understand the 4 R’s of being trauma aware and the 6 principles of trauma approaches.\n• Step-by-step guide on how to become a trauma informed organisation using the 4 stages of the TrACE toolkit.\n \n*Please note: As per our T&C’s\, this course carries a fee in the event of non-attendance\, non-completion or late cancellation.\nBookings of more than two delegates per site may be amended to allow access to all member organisations at the discretion of HCPA.\nDelegates who are late may not be admitted into the training and a cost incurred
URL:https://www.hcpa.info/courses/trauma-informed-approaches-and-becoming-a-trauma-informed-organisation-with-hpft-cohort-01/
LOCATION:HCPA\, Mundells Campus\, Mundells\, Welwyn Garden City\, AL7 1FT
CATEGORIES:Care Leadership Courses,Care topics
END:VEVENT
END:VCALENDAR