BEGIN:VCALENDAR
VERSION:2.0
PRODID:-//HCPA - ECPv6.15.12.1//NONSGML v1.0//EN
CALSCALE:GREGORIAN
METHOD:PUBLISH
X-WR-CALNAME:HCPA
X-ORIGINAL-URL:https://www.hcpa.info
X-WR-CALDESC:Events for HCPA
REFRESH-INTERVAL;VALUE=DURATION:PT1H
X-Robots-Tag:noindex
X-PUBLISHED-TTL:PT1H
BEGIN:VTIMEZONE
TZID:Europe/London
BEGIN:DAYLIGHT
TZOFFSETFROM:+0000
TZOFFSETTO:+0100
TZNAME:BST
DTSTART:20240331T010000
END:DAYLIGHT
BEGIN:STANDARD
TZOFFSETFROM:+0100
TZOFFSETTO:+0000
TZNAME:GMT
DTSTART:20241027T010000
END:STANDARD
BEGIN:DAYLIGHT
TZOFFSETFROM:+0000
TZOFFSETTO:+0100
TZNAME:BST
DTSTART:20250330T010000
END:DAYLIGHT
BEGIN:STANDARD
TZOFFSETFROM:+0100
TZOFFSETTO:+0000
TZNAME:GMT
DTSTART:20251026T010000
END:STANDARD
BEGIN:DAYLIGHT
TZOFFSETFROM:+0000
TZOFFSETTO:+0100
TZNAME:BST
DTSTART:20260329T010000
END:DAYLIGHT
BEGIN:STANDARD
TZOFFSETFROM:+0100
TZOFFSETTO:+0000
TZNAME:GMT
DTSTART:20261025T010000
END:STANDARD
END:VTIMEZONE
BEGIN:VEVENT
DTSTART;TZID=Europe/London:20250804T100000
DTEND;TZID=Europe/London:20250804T160000
DTSTAMP:20260420T225155
CREATED:20250606T125903Z
LAST-MODIFIED:20250811T160342Z
UID:10001743-1754301600-1754323200@www.hcpa.info
SUMMARY:Digital & Data CHAMPION...
DESCRIPTION:  \n  \nCourse fees: HCPA Full Member: Fully funded* | ACE Member: £264+VAT | Associate Member: £300+VAT | Non-member: £400+VAT  \nFour day course at HCPA Campus\nAll sessions must be attended\nDay 1: 04/08/2025\nDay 2: 13/08/2025\nDay 3: 18/08/2025\nDay 4: 26/08/2025 \nThis course will enable Care professionals to take on the role of Champion within their organisation for this topic. The Champion will have a clear understanding of local and national guidance and legislation for and will cascade this information amongst care teams\, improving the safety and quality of care for individuals. \nExpectations of being a Champion are as follows:\n• Share knowledge to staff through team meetings\, mentoring and coaching\n• Gain topic specific knowledge\n• Keep up to date with resources and support via the HCPA Members Zone\n• Take responsibility to champion the topic area to ensure the care provider meets best practice standards\n• Build strong relationships with professionals\n• Support “Better outcomes for the individuals you support” for topic area\n• Review Governance of the topic including reviewing and update policies and procedures to meet standards\n• Attend yearly CPD and complete reflective accounts to enable revalidation \nSelecting your Champion\nTo help you select your chosen Champion\, they will need to:\n1. Be a member of staff with authority to mentor staff and work with external partners\n2. Have enthusiasm and dedication to promote best practice in the organisation and action change\n3. Be committed to multi-disciplinary working\, both internally and externally\n4. Have confidence and strong communication skills to share information with staff teams via team meetings\n5. Have the ability to critically review current governance processes for the topic area \nLearning Outcomes:\n• Understand the champion role and how this can benefit their organisation\n• Understand the process of SMART goal setting and be able to relate this in own place of work\n• Understand Data Security & Protection Law and Legislation.\n• Understand the requirements for GDPR compliance and CQC inspections\n• Understand Person centred digital care and support\, including the ethical use of technology\n• Understand the use of AI in the Care Sector\n• Understand how to support your organisation\n• Understand how to promote Data Security and Digital working in the workplace. \n*Please note: As per our T&C’s\, this course carries a fee in the event of non-attendance\, non-completion or late cancellation.\nDelegates who are late may not be admitted into the training and a cost incurred.\nBookings of more than two delegates per site may be amended to allow access to all member organisations at the discretion of HCPA.
URL:https://www.hcpa.info/courses/digital-data-champion/
LOCATION:HCPA\, Mundells Campus\, Mundells\, Welwyn Garden City\, AL7 1FT
END:VEVENT
END:VCALENDAR