BEGIN:VCALENDAR
VERSION:2.0
PRODID:-//HCPA - ECPv6.15.12.1//NONSGML v1.0//EN
CALSCALE:GREGORIAN
METHOD:PUBLISH
X-WR-CALNAME:HCPA
X-ORIGINAL-URL:https://www.hcpa.info
X-WR-CALDESC:Events for HCPA
REFRESH-INTERVAL;VALUE=DURATION:PT1H
X-Robots-Tag:noindex
X-PUBLISHED-TTL:PT1H
BEGIN:VTIMEZONE
TZID:Europe/London
BEGIN:DAYLIGHT
TZOFFSETFROM:+0000
TZOFFSETTO:+0100
TZNAME:BST
DTSTART:20240331T010000
END:DAYLIGHT
BEGIN:STANDARD
TZOFFSETFROM:+0100
TZOFFSETTO:+0000
TZNAME:GMT
DTSTART:20241027T010000
END:STANDARD
BEGIN:DAYLIGHT
TZOFFSETFROM:+0000
TZOFFSETTO:+0100
TZNAME:BST
DTSTART:20250330T010000
END:DAYLIGHT
BEGIN:STANDARD
TZOFFSETFROM:+0100
TZOFFSETTO:+0000
TZNAME:GMT
DTSTART:20251026T010000
END:STANDARD
BEGIN:DAYLIGHT
TZOFFSETFROM:+0000
TZOFFSETTO:+0100
TZNAME:BST
DTSTART:20260329T010000
END:DAYLIGHT
BEGIN:STANDARD
TZOFFSETFROM:+0100
TZOFFSETTO:+0000
TZNAME:GMT
DTSTART:20261025T010000
END:STANDARD
END:VTIMEZONE
BEGIN:VEVENT
DTSTART;TZID=Europe/London:20250718T100000
DTEND;TZID=Europe/London:20250718T160000
DTSTAMP:20260421T001216
CREATED:20250512T151753Z
LAST-MODIFIED:20250606T142918Z
UID:10001680-1752832800-1752854400@www.hcpa.info
SUMMARY:Recommended Summary Plan for Emergency Care and Treatment (ReSPECT)
DESCRIPTION:One day course at HCPA Campus\nWe are delighted to host on behalf of Hertfordshire Hospices this interactive workshop on how to get the conversation started regarding ReSPECT. This course will be facilitated and be interactive looking at tools\, templates and case studies to aid in the ReSPECT process. \nLearning Outcomes:\n• Gain confidence in gathering information for a ReSPECT document.\n• Gain knowledge of ReSPECT and why it is important\n• Understand how to start a conversation about ReSPECT.\n• Be able to facilitate discussions with people receiving care\n• Be awareness of who to contact to support this vital documentation. \n*Please note: As per our T&C’s\, this course carries a fee in the event of non-attendance\, non-completion or late cancellation.\nBookings of more than two delegates per site may be amended to allow access to all member organisations at the discretion of HCPA.\nDelegates who are late may not be admitted into the training and a cost incurred
URL:https://www.hcpa.info/courses/recommended-summary-plan-for-emergency-care-and-treatment-respect-cohort-02/
LOCATION:HCPA\, Mundells Campus\, Mundells\, Welwyn Garden City\, AL7 1FT
CATEGORIES:Care topics
END:VEVENT
END:VCALENDAR