BEGIN:VCALENDAR
VERSION:2.0
PRODID:-//HCPA - ECPv6.15.12.1//NONSGML v1.0//EN
CALSCALE:GREGORIAN
METHOD:PUBLISH
X-ORIGINAL-URL:https://www.hcpa.info
X-WR-CALDESC:Events for HCPA
REFRESH-INTERVAL;VALUE=DURATION:PT1H
X-Robots-Tag:noindex
X-PUBLISHED-TTL:PT1H
BEGIN:VTIMEZONE
TZID:Europe/London
BEGIN:DAYLIGHT
TZOFFSETFROM:+0000
TZOFFSETTO:+0100
TZNAME:BST
DTSTART:20240331T010000
END:DAYLIGHT
BEGIN:STANDARD
TZOFFSETFROM:+0100
TZOFFSETTO:+0000
TZNAME:GMT
DTSTART:20241027T010000
END:STANDARD
BEGIN:DAYLIGHT
TZOFFSETFROM:+0000
TZOFFSETTO:+0100
TZNAME:BST
DTSTART:20250330T010000
END:DAYLIGHT
BEGIN:STANDARD
TZOFFSETFROM:+0100
TZOFFSETTO:+0000
TZNAME:GMT
DTSTART:20251026T010000
END:STANDARD
BEGIN:DAYLIGHT
TZOFFSETFROM:+0000
TZOFFSETTO:+0100
TZNAME:BST
DTSTART:20260329T010000
END:DAYLIGHT
BEGIN:STANDARD
TZOFFSETFROM:+0100
TZOFFSETTO:+0000
TZNAME:GMT
DTSTART:20261025T010000
END:STANDARD
END:VTIMEZONE
BEGIN:VEVENT
DTSTART;TZID=Europe/London:20250627T100000
DTEND;TZID=Europe/London:20250627T160000
DTSTAMP:20260421T013126
CREATED:20250509T144039Z
LAST-MODIFIED:20250604T093044Z
UID:10001678-1751018400-1751040000@www.hcpa.info
SUMMARY:Advance Care Planning in End of Life Care - Homecare & Supported Living
DESCRIPTION:One day course at HCPA Campus \nWe are delighted to host on behalf of Hertfordshire Hospices this interactive workshop on how to get the conversation started regarding Advance Care Planning. This course will be facilitated and be interactive looking at tools\, templates for Advance Care Planning. \nLearning Outcomes:\n• At the end of the day\, participants will be able to describe and discuss relevance of ACP to their own practice.\n• Participants will have a knowledge of Key advance planning principles and tools.\n• The participants will be able to recognize and use Key documents to support Advance Care Planning\, and decision making.\n• At the end of the day participants will be able to facilitate discussions with their service users/Residents and have an awareness of how to record this information. of ACP. \n*Please note: As per our T&C’s\, this course carries a fee in the event of non-attendance\, non-completion or late cancellation.\nBookings of more than two delegates per site may be amended to allow access to all member organisations at the discretion of HCPA.\nDelegates who are late may not be admitted into the training and a cost incurred \n 
URL:https://www.hcpa.info/courses/advance-care-planning-homecare-supported-living/
LOCATION:HCPA\, Mundells Campus\, Mundells\, Welwyn Garden City\, AL7 1FT
CATEGORIES:Care topics
END:VEVENT
END:VCALENDAR